Back to Multiple platform build/check report for BioC 3.14
A[B]CDEFGHIJKLMNOPQRSTUVWXYZ

This page was generated on 2021-12-03 13:05:39 -0500 (Fri, 03 Dec 2021).

INSTALL results for BAGS on machv2

To the developers/maintainers of the BAGS package:
- Please allow up to 24 hours (and sometimes 48 hours) for your latest push to git@git.bioconductor.org:packages/BAGS.git to
reflect on this report. See How and When does the builder pull? When will my changes propagate? here for more information.
- Make sure to use the following settings in order to reproduce any error or warning you see on this page.

raw results

Package 108/2083HostnameOS / ArchINSTALLBUILDCHECKBUILD BIN
BAGS 2.34.0  (landing page)
Alejandro Quiroz-Zarate
Snapshot Date: 2021-12-02 01:55:06 -0500 (Thu, 02 Dec 2021)
git_url: https://git.bioconductor.org/packages/BAGS
git_branch: RELEASE_3_14
git_last_commit: 4d95037
git_last_commit_date: 2021-10-26 12:01:47 -0500 (Tue, 26 Oct 2021)
nebbiolo2Linux (Ubuntu 20.04.3 LTS) / x86_64  OK    OK    OK  UNNEEDED, same version is already published
tokay2Windows Server 2012 R2 Standard / x64  OK    OK    OK    OK  UNNEEDED, same version is already published
machv2macOS 10.14.6 Mojave / x86_64  OK    OK    OK    OK  UNNEEDED, same version is already published

Summary

Package: BAGS
Version: 2.34.0
Command: /Library/Frameworks/R.framework/Resources/bin/R CMD INSTALL BAGS
StartedAt: 2021-12-02 03:27:45 -0500 (Thu, 02 Dec 2021)
EndedAt: 2021-12-02 03:28:24 -0500 (Thu, 02 Dec 2021)
EllapsedTime: 38.8 seconds
RetCode: 0
Status:   OK  

Command output

##############################################################################
##############################################################################
###
### Running command:
###
###   /Library/Frameworks/R.framework/Resources/bin/R CMD INSTALL BAGS
###
##############################################################################
##############################################################################


* installing to library ‘/Library/Frameworks/R.framework/Versions/4.1/Resources/library’
* installing *source* package ‘BAGS’ ...
** using staged installation
** libs
clang -mmacosx-version-min=10.13 -I"/Library/Frameworks/R.framework/Resources/include" -DNDEBUG   -I/usr/local/include   -fPIC  -Wall -g -O2  -c BAGS.c -o BAGS.o
In file included from BAGS.c:8:
./FuncionesFast-Final.h:145:70: warning: unused variable 'YMu1' [-Wunused-variable]
    double media1,media,varianza1,varianza,resultado,varaux0,varaux1,YMu1;
                                                                     ^
./FuncionesFast-Final.h:166:94: warning: unused variable 'A' [-Wunused-variable]
    double CSiDiff,CNoDiff,Cest,Mu,aux1,aux4,suma,zuma,cons,rznLog,rzn,prob,alea,resultado,C,A,varianza,MediaDiff;
                                                                                             ^
./FuncionesFast-Final.h:166:92: warning: unused variable 'C' [-Wunused-variable]
    double CSiDiff,CNoDiff,Cest,Mu,aux1,aux4,suma,zuma,cons,rznLog,rzn,prob,alea,resultado,C,A,varianza,MediaDiff;
                                                                                           ^
./FuncionesFast-Final.h:166:105: warning: unused variable 'MediaDiff' [-Wunused-variable]
    double CSiDiff,CNoDiff,Cest,Mu,aux1,aux4,suma,zuma,cons,rznLog,rzn,prob,alea,resultado,C,A,varianza,MediaDiff;
                                                                                                        ^
BAGS.c:25:28: warning: unused variable 'escala3' [-Wunused-variable]
    double escala1,escala2,escala3,escala,rate,resI;
                           ^
BAGS.c:25:36: warning: unused variable 'escala' [-Wunused-variable]
    double escala1,escala2,escala3,escala,rate,resI;
                                   ^
BAGS.c:25:12: warning: unused variable 'escala1' [-Wunused-variable]
    double escala1,escala2,escala3,escala,rate,resI;
           ^
BAGS.c:25:20: warning: unused variable 'escala2' [-Wunused-variable]
    double escala1,escala2,escala3,escala,rate,resI;
                   ^
BAGS.c:25:43: warning: unused variable 'rate' [-Wunused-variable]
    double escala1,escala2,escala3,escala,rate,resI;
                                          ^
BAGS.c:25:48: warning: unused variable 'resI' [-Wunused-variable]
    double escala1,escala2,escala3,escala,rate,resI;
                                               ^
BAGS.c:24:12: warning: unused variable 'formaAux' [-Wunused-variable]
    double formaAux;
           ^
BAGS.c:342:36: warning: unused variable 'escala' [-Wunused-variable]
    double escala1,escala2,escala3,escala,rate,resI;    // Aqui tengo duda
                                   ^
BAGS.c:342:28: warning: unused variable 'escala3' [-Wunused-variable]
    double escala1,escala2,escala3,escala,rate,resI;    // Aqui tengo duda
                           ^
BAGS.c:342:48: warning: unused variable 'resI' [-Wunused-variable]
    double escala1,escala2,escala3,escala,rate,resI;    // Aqui tengo duda
                                               ^
BAGS.c:342:43: warning: unused variable 'rate' [-Wunused-variable]
    double escala1,escala2,escala3,escala,rate,resI;    // Aqui tengo duda
                                          ^
BAGS.c:341:12: warning: unused variable 'formaAux' [-Wunused-variable]
    double formaAux;
           ^
BAGS.c:342:20: warning: unused variable 'escala2' [-Wunused-variable]
    double escala1,escala2,escala3,escala,rate,resI;    // Aqui tengo duda
                   ^
BAGS.c:342:12: warning: unused variable 'escala1' [-Wunused-variable]
    double escala1,escala2,escala3,escala,rate,resI;    // Aqui tengo duda
           ^
BAGS.c:593:48: warning: unused variable 'resI' [-Wunused-variable]
    double escala1,escala2,escala3,escala,rate,resI;    // Aqui tengo duda
                                               ^
BAGS.c:593:43: warning: unused variable 'rate' [-Wunused-variable]
    double escala1,escala2,escala3,escala,rate,resI;    // Aqui tengo duda
                                          ^
BAGS.c:593:36: warning: unused variable 'escala' [-Wunused-variable]
    double escala1,escala2,escala3,escala,rate,resI;    // Aqui tengo duda
                                   ^
BAGS.c:593:28: warning: unused variable 'escala3' [-Wunused-variable]
    double escala1,escala2,escala3,escala,rate,resI;    // Aqui tengo duda
                           ^
BAGS.c:593:20: warning: unused variable 'escala2' [-Wunused-variable]
    double escala1,escala2,escala3,escala,rate,resI;    // Aqui tengo duda
                   ^
BAGS.c:593:12: warning: unused variable 'escala1' [-Wunused-variable]
    double escala1,escala2,escala3,escala,rate,resI;    // Aqui tengo duda
           ^
BAGS.c:592:12: warning: unused variable 'formaAux' [-Wunused-variable]
    double formaAux;
           ^
BAGS.c:786:36: warning: unused variable 'escala' [-Wunused-variable]
    double escala1,escala2,escala3,escala,rate,resI;    // Aqui tengo duda
                                   ^
BAGS.c:786:28: warning: unused variable 'escala3' [-Wunused-variable]
    double escala1,escala2,escala3,escala,rate,resI;    // Aqui tengo duda
                           ^
BAGS.c:786:43: warning: unused variable 'rate' [-Wunused-variable]
    double escala1,escala2,escala3,escala,rate,resI;    // Aqui tengo duda
                                          ^
BAGS.c:786:48: warning: unused variable 'resI' [-Wunused-variable]
    double escala1,escala2,escala3,escala,rate,resI;    // Aqui tengo duda
                                               ^
BAGS.c:785:12: warning: unused variable 'formaAux' [-Wunused-variable]
    double formaAux;
           ^
BAGS.c:786:20: warning: unused variable 'escala2' [-Wunused-variable]
    double escala1,escala2,escala3,escala,rate,resI;    // Aqui tengo duda
                   ^
BAGS.c:786:12: warning: unused variable 'escala1' [-Wunused-variable]
    double escala1,escala2,escala3,escala,rate,resI;    // Aqui tengo duda
           ^
32 warnings generated.
clang -mmacosx-version-min=10.13 -dynamiclib -Wl,-headerpad_max_install_names -undefined dynamic_lookup -single_module -multiply_defined suppress -L/Library/Frameworks/R.framework/Resources/lib -L/usr/local/lib -o BAGS.so BAGS.o -F/Library/Frameworks/R.framework/.. -framework R -Wl,-framework -Wl,CoreFoundation
installing to /Library/Frameworks/R.framework/Versions/4.1/Resources/library/00LOCK-BAGS/00new/BAGS/libs
** R
** data
** inst
** byte-compile and prepare package for lazy loading
** help
*** installing help indices
** building package indices
** installing vignettes
** testing if installed package can be loaded from temporary location
** checking absolute paths in shared objects and dynamic libraries
** testing if installed package can be loaded from final location
** testing if installed package keeps a record of temporary installation path
* DONE (BAGS)