Back to Multiple platform build/check report for BioC 3.14
A[B]CDEFGHIJKLMNOPQRSTUVWXYZ

This page was generated on 2021-10-23 14:06:19 -0400 (Sat, 23 Oct 2021).

BUILD results for BAC on riesling1

To the developers/maintainers of the BAC package:
- Please allow up to 24 hours (and sometimes 48 hours) for your latest push to git@git.bioconductor.org:packages/BAC.git to
reflect on this report. See How and When does the builder pull? When will my changes propagate? here for more information.
- Make sure to use the following settings in order to reproduce any error or warning you see on this page.

raw results

Package 104/2083HostnameOS / ArchINSTALLBUILDCHECKBUILD BIN
BAC 1.53.0  (landing page)
Raphael Gottardo
Snapshot Date: 2021-10-22 14:50:11 -0400 (Fri, 22 Oct 2021)
git_url: https://git.bioconductor.org/packages/BAC
git_branch: master
git_last_commit: c132ac8
git_last_commit_date: 2021-05-19 11:40:12 -0400 (Wed, 19 May 2021)
nebbiolo2Linux (Ubuntu 20.04.2 LTS) / x86_64  OK    OK    OK  UNNEEDED, same version is already published
riesling1Windows Server 2019 Standard / x64  OK    OK    OK    OK  UNNEEDED, same version is already published
merida1macOS 10.14.6 Mojave / x86_64  OK    OK    OK    OK  UNNEEDED, same version is already published

Summary

Package: BAC
Version: 1.53.0
Command: chmod a+r BAC -R && D:\biocbuild\bbs-3.14-bioc\R\bin\R.exe CMD build --keep-empty-dirs --no-resave-data BAC
StartedAt: 2021-10-22 19:31:52 -0400 (Fri, 22 Oct 2021)
EndedAt: 2021-10-22 19:36:42 -0400 (Fri, 22 Oct 2021)
EllapsedTime: 289.7 seconds
RetCode: 0
Status:   OK  
PackageFile: BAC_1.53.0.tar.gz
PackageFileSize: 972.1 KiB

Command output

##############################################################################
##############################################################################
###
### Running command:
###
###   chmod a+r BAC -R && D:\biocbuild\bbs-3.14-bioc\R\bin\R.exe CMD build --keep-empty-dirs --no-resave-data BAC
###
##############################################################################
##############################################################################


* checking for file 'BAC/DESCRIPTION' ... OK
* preparing 'BAC':
* checking DESCRIPTION meta-information ... OK
* cleaning src
* installing the package to build vignettes
* creating vignettes ... OK
* cleaning src
* checking for LF line-endings in source and make files and shell scripts
* checking for empty or unneeded directories
* looking to see if a 'data/datalist' file should be added
* building 'BAC_1.53.0.tar.gz'