Index of /checkResults/3.14/bioc-LATEST/BAC/raw-results/nebbiolo2

[ICO]NameLast modifiedSizeDescription

[DIR]Parent Directory  -  
[TXT]buildsrc-out.txt15-Jan-2022 03:04 883  
[   ]buildsrc-summary.dcf15-Jan-2022 03:04 404  
[TXT]checksrc-out.txt15-Jan-2022 03:04 4.3K 
[   ]checksrc-summary.dcf15-Jan-2022 03:04 407  
[TXT]install-out.txt15-Jan-2022 03:04 1.4K 
[   ]install-summary.dcf15-Jan-2022 03:04 251