Index of /checkResults/3.14/bioc-LATEST/BAC/raw-results/machv2

[ICO]NameLast modifiedSizeDescription

[DIR]Parent Directory  -  
[TXT]buildbin-out.txt22-Jan-2022 03:07 2.7K 
[   ]buildbin-summary.dcf22-Jan-2022 03:07 505  
[TXT]buildsrc-out.txt22-Jan-2022 03:07 893  
[   ]buildsrc-summary.dcf22-Jan-2022 03:07 415  
[TXT]checksrc-out.txt22-Jan-2022 03:07 4.4K 
[   ]checksrc-summary.dcf22-Jan-2022 03:07 427  
[TXT]install-out.txt22-Jan-2022 03:07 1.9K 
[   ]install-summary.dcf22-Jan-2022 03:07 261