Back to Multiple platform build/check report for BioC 3.14
A[B]CDEFGHIJKLMNOPQRSTUVWXYZ

This page was generated on 2021-12-03 13:05:39 -0500 (Fri, 03 Dec 2021).

BUILD results for BAC on machv2

To the developers/maintainers of the BAC package:
- Please allow up to 24 hours (and sometimes 48 hours) for your latest push to git@git.bioconductor.org:packages/BAC.git to
reflect on this report. See How and When does the builder pull? When will my changes propagate? here for more information.
- Make sure to use the following settings in order to reproduce any error or warning you see on this page.

raw results

Package 104/2083HostnameOS / ArchINSTALLBUILDCHECKBUILD BIN
BAC 1.54.0  (landing page)
Raphael Gottardo
Snapshot Date: 2021-12-02 01:55:06 -0500 (Thu, 02 Dec 2021)
git_url: https://git.bioconductor.org/packages/BAC
git_branch: RELEASE_3_14
git_last_commit: a404e5d
git_last_commit_date: 2021-10-26 11:51:51 -0500 (Tue, 26 Oct 2021)
nebbiolo2Linux (Ubuntu 20.04.3 LTS) / x86_64  OK    OK    OK  UNNEEDED, same version is already published
tokay2Windows Server 2012 R2 Standard / x64  OK    OK    OK    OK  UNNEEDED, same version is already published
machv2macOS 10.14.6 Mojave / x86_64  OK    OK    OK    OK  UNNEEDED, same version is already published

Summary

Package: BAC
Version: 1.54.0
Command: /Library/Frameworks/R.framework/Resources/bin/R CMD build --keep-empty-dirs --no-resave-data BAC
StartedAt: 2021-12-02 05:44:01 -0500 (Thu, 02 Dec 2021)
EndedAt: 2021-12-02 05:44:11 -0500 (Thu, 02 Dec 2021)
EllapsedTime: 9.7 seconds
RetCode: 0
Status:   OK  
PackageFile: BAC_1.54.0.tar.gz
PackageFileSize: 971.7 KiB

Command output

##############################################################################
##############################################################################
###
### Running command:
###
###   /Library/Frameworks/R.framework/Resources/bin/R CMD build --keep-empty-dirs --no-resave-data BAC
###
##############################################################################
##############################################################################


* checking for file ‘BAC/DESCRIPTION’ ... OK
* preparing ‘BAC’:
* checking DESCRIPTION meta-information ... OK
* cleaning src
* installing the package to build vignettes
* creating vignettes ... OK
* cleaning src
* checking for LF line-endings in source and make files and shell scripts
* checking for empty or unneeded directories
* looking to see if a ‘data/datalist’ file should be added
* building ‘BAC_1.54.0.tar.gz’