Back to Multiple platform build/check report for BioC 3.14
[A]BCDEFGHIJKLMNOPQRSTUVWXYZ

This page was generated on 2021-10-20 12:05:33 -0400 (Wed, 20 Oct 2021).

BUILD BIN results for AssessORF on merida1

To the developers/maintainers of the AssessORF package:
- Please allow up to 24 hours (and sometimes 48 hours) for your latest push to git@git.bioconductor.org:packages/AssessORF.git to
reflect on this report. See How and When does the builder pull? When will my changes propagate? here for more information.
- Make sure to use the following settings in order to reproduce any error or warning you see on this page.

raw results

Package 91/2072HostnameOS / ArchINSTALLBUILDCHECKBUILD BIN
AssessORF 1.11.0  (landing page)
Deepank Korandla
Snapshot Date: 2021-10-19 14:50:04 -0400 (Tue, 19 Oct 2021)
git_url: https://git.bioconductor.org/packages/AssessORF
git_branch: master
git_last_commit: 3ef86c1
git_last_commit_date: 2021-05-19 12:39:14 -0400 (Wed, 19 May 2021)
nebbiolo2Linux (Ubuntu 20.04.2 LTS) / x86_64  OK    OK    OK  UNNEEDED, same version is already published
riesling1Windows Server 2019 Standard / x64  OK    OK    OK    OK  UNNEEDED, same version is already published
merida1macOS 10.14.6 Mojave / x86_64  OK    OK    OK    OK  UNNEEDED, same version is already published

Summary

Package: AssessORF
Version: 1.11.0
Command: rm -rf AssessORF.buildbin-libdir && mkdir AssessORF.buildbin-libdir && /Users/biocbuild/BBS/utils/build-universal.sh AssessORF_1.11.0.tar.gz /Library/Frameworks/R.framework/Resources/bin/R AssessORF.buildbin-libdir
StartedAt: 2021-10-20 11:00:52 -0400 (Wed, 20 Oct 2021)
EndedAt: 2021-10-20 11:01:43 -0400 (Wed, 20 Oct 2021)
EllapsedTime: 51.3 seconds
RetCode: 0
Status:   OK  
PackageFile: AssessORF_1.11.0.tgz
PackageFileSize: 4.788 MiB

Command output

##############################################################################
##############################################################################
###
### Running command:
###
###   rm -rf AssessORF.buildbin-libdir && mkdir AssessORF.buildbin-libdir && /Users/biocbuild/BBS/utils/build-universal.sh AssessORF_1.11.0.tar.gz /Library/Frameworks/R.framework/Resources/bin/R AssessORF.buildbin-libdir
###
##############################################################################
##############################################################################


>>>>>>> 
>>>>>>> INSTALLATION WITH 'R CMD INSTALL --preclean --no-multiarch --library=AssessORF.buildbin-libdir AssessORF_1.11.0.tar.gz'
>>>>>>> 

* installing *source* package ‘AssessORF’ ...
** using staged installation
** R
** inst
** byte-compile and prepare package for lazy loading
** help
*** installing help indices
** building package indices
** installing vignettes
** testing if installed package can be loaded from temporary location
** testing if installed package can be loaded from final location
** testing if installed package keeps a record of temporary installation path
* DONE (AssessORF)