Back to Multiple platform build/check report for BioC 3.14
[A]BCDEFGHIJKLMNOPQRSTUVWXYZ

This page was generated on 2021-10-18 12:03:58 -0400 (Mon, 18 Oct 2021).

BUILD BIN results for ArrayExpress on riesling1

To the developers/maintainers of the ArrayExpress package:
- Please allow up to 24 hours (and sometimes 48 hours) for your latest push to git@git.bioconductor.org:packages/ArrayExpress.git to
reflect on this report. See How and When does the builder pull? When will my changes propagate? here for more information.
- Make sure to use the following settings in order to reproduce any error or warning you see on this page.

raw results

Package 78/2060HostnameOS / ArchINSTALLBUILDCHECKBUILD BIN
ArrayExpress 1.53.0  (landing page)
Suhaib Mohammed
Snapshot Date: 2021-10-17 14:50:03 -0400 (Sun, 17 Oct 2021)
git_url: https://git.bioconductor.org/packages/ArrayExpress
git_branch: master
git_last_commit: aa7aebb
git_last_commit_date: 2021-05-19 11:41:54 -0400 (Wed, 19 May 2021)
nebbiolo2Linux (Ubuntu 20.04.2 LTS) / x86_64  OK    OK    OK  UNNEEDED, same version is already published
riesling1Windows Server 2019 Standard / x64  OK    OK    OK    OK  UNNEEDED, same version is already published
merida1macOS 10.14.6 Mojave / x86_64  OK    OK    OK    OK  UNNEEDED, same version is already published

Summary

Package: ArrayExpress
Version: 1.53.0
Command: rm -rf ArrayExpress.buildbin-libdir && mkdir ArrayExpress.buildbin-libdir && D:\biocbuild\bbs-3.14-bioc\R\bin\R.exe CMD INSTALL --merge-multiarch --build --library=ArrayExpress.buildbin-libdir ArrayExpress_1.53.0.tar.gz
StartedAt: 2021-10-18 04:14:55 -0400 (Mon, 18 Oct 2021)
EndedAt: 2021-10-18 04:18:48 -0400 (Mon, 18 Oct 2021)
EllapsedTime: 233.3 seconds
RetCode: 0
Status:   OK  
PackageFile: ArrayExpress_1.53.0.zip
PackageFileSize: 248.4 KiB

Command output

##############################################################################
##############################################################################
###
### Running command:
###
###   rm -rf ArrayExpress.buildbin-libdir && mkdir ArrayExpress.buildbin-libdir && D:\biocbuild\bbs-3.14-bioc\R\bin\R.exe CMD INSTALL --merge-multiarch --build --library=ArrayExpress.buildbin-libdir ArrayExpress_1.53.0.tar.gz
###
##############################################################################
##############################################################################



install for i386

* installing *source* package 'ArrayExpress' ...
** using staged installation
** R
** inst
** byte-compile and prepare package for lazy loading
** help
*** installing help indices
  converting help for package 'ArrayExpress'
    finding HTML links ... done
    ArrayExpress                            html  
    ae2bioc                                 html  
    extract.zip                             html  
    getAE                                   html  
    getcolproc                              html  
    getcolraw                               html  
    procset                                 html  
    queryAE                                 html  
** building package indices
** installing vignettes
** testing if installed package can be loaded from temporary location
** testing if installed package can be loaded from final location
** testing if installed package keeps a record of temporary installation path

install for x64

* installing *source* package 'ArrayExpress' ...
** testing if installed package can be loaded
* MD5 sums
packaged installation of 'ArrayExpress' as ArrayExpress_1.53.0.zip
* DONE (ArrayExpress)