Back to Multiple platform build/check report for BioC 3.14
[A]BCDEFGHIJKLMNOPQRSTUVWXYZ

This page was generated on 2021-11-26 15:05:42 -0500 (Fri, 26 Nov 2021).

CHECK results for ArrayExpress on machv2

To the developers/maintainers of the ArrayExpress package:
- Please allow up to 24 hours (and sometimes 48 hours) for your latest push to git@git.bioconductor.org:packages/ArrayExpress.git to
reflect on this report. See How and When does the builder pull? When will my changes propagate? here for more information.
- Make sure to use the following settings in order to reproduce any error or warning you see on this page.

raw results

Package 78/2083HostnameOS / ArchINSTALLBUILDCHECKBUILD BIN
ArrayExpress 1.54.0  (landing page)
Suhaib Mohammed
Snapshot Date: 2021-11-25 04:15:05 -0500 (Thu, 25 Nov 2021)
git_url: https://git.bioconductor.org/packages/ArrayExpress
git_branch: RELEASE_3_14
git_last_commit: 9a09ffb
git_last_commit_date: 2021-10-26 11:52:59 -0500 (Tue, 26 Oct 2021)
nebbiolo2Linux (Ubuntu 20.04.3 LTS) / x86_64  OK    OK    OK  UNNEEDED, same version is already published
tokay2Windows Server 2012 R2 Standard / x64  OK    OK    OK    OK  UNNEEDED, same version is already published
machv2macOS 10.14.6 Mojave / x86_64  OK    OK    OK    OK  UNNEEDED, same version is already published

Summary

Package: ArrayExpress
Version: 1.54.0
Command: /Library/Frameworks/R.framework/Resources/bin/R CMD check --install=check:ArrayExpress.install-out.txt --library=/Library/Frameworks/R.framework/Resources/library --no-vignettes --timings ArrayExpress_1.54.0.tar.gz
StartedAt: 2021-11-25 13:50:13 -0500 (Thu, 25 Nov 2021)
EndedAt: 2021-11-25 13:54:46 -0500 (Thu, 25 Nov 2021)
EllapsedTime: 272.9 seconds
RetCode: 0
Status:   OK  
CheckDir: ArrayExpress.Rcheck
Warnings: 0

Command output

##############################################################################
##############################################################################
###
### Running command:
###
###   /Library/Frameworks/R.framework/Resources/bin/R CMD check --install=check:ArrayExpress.install-out.txt --library=/Library/Frameworks/R.framework/Resources/library --no-vignettes --timings ArrayExpress_1.54.0.tar.gz
###
##############################################################################
##############################################################################


* using log directory ‘/Users/biocbuild/bbs-3.14-bioc/meat/ArrayExpress.Rcheck’
* using R version 4.1.2 (2021-11-01)
* using platform: x86_64-apple-darwin17.0 (64-bit)
* using session charset: UTF-8
* using option ‘--no-vignettes’
* checking for file ‘ArrayExpress/DESCRIPTION’ ... OK
* this is package ‘ArrayExpress’ version ‘1.54.0’
* checking package namespace information ... OK
* checking package dependencies ... OK
* checking if this is a source package ... OK
* checking if there is a namespace ... OK
* checking for hidden files and directories ... OK
* checking for portable file names ... OK
* checking for sufficient/correct file permissions ... OK
* checking whether package ‘ArrayExpress’ can be installed ... OK
* checking installed package size ... OK
* checking package directory ... OK
* checking ‘build’ directory ... OK
* checking DESCRIPTION meta-information ... NOTE
Malformed Description field: should contain one or more complete sentences.
* checking top-level files ... OK
* checking for left-over files ... OK
* checking index information ... OK
* checking package subdirectories ... OK
* checking R files for non-ASCII characters ... OK
* checking R files for syntax errors ... OK
* checking whether the package can be loaded ... OK
* checking whether the package can be loaded with stated dependencies ... OK
* checking whether the package can be unloaded cleanly ... OK
* checking whether the namespace can be loaded with stated dependencies ... OK
* checking whether the namespace can be unloaded cleanly ... OK
* checking dependencies in R code ... OK
* checking S3 generic/method consistency ... OK
* checking replacement functions ... OK
* checking foreign function calls ... OK
* checking R code for possible problems ... NOTE
ae2bioc: no visible global function definition for ‘new’
extract.zip : <anonymous>: no visible global function definition for
  ‘unzip’
getAE : <anonymous>: no visible global function definition for
  ‘download.file’
getAE: no visible global function definition for ‘download.file’
getDataColsForAE1: no visible global function definition for
  ‘read.table’
preparePhenoDataFor2channel: no visible global function definition for
  ‘new’
queryAE: no visible global function definition for ‘download.file’
readDerivedDataFiles: no visible global function definition for
  ‘read.table’
readDerivedDataFiles: no visible global function definition for ‘new’
readDerivedDataMatrixFile: no visible global function definition for
  ‘read.table’
readDerivedDataMatrixFile: no visible global function definition for
  ‘new’
readExperimentData: no visible global function definition for ‘new’
readFeatures: no visible global function definition for ‘read.table’
readFeatures: no visible global function definition for ‘new’
readPhenoData: no visible global function definition for ‘new’
Undefined global functions or variables:
  download.file new read.table unzip
Consider adding
  importFrom("methods", "new")
  importFrom("utils", "download.file", "read.table", "unzip")
to your NAMESPACE file (and ensure that your DESCRIPTION Imports field
contains 'methods').
* checking Rd files ... OK
* checking Rd metadata ... OK
* checking Rd cross-references ... OK
* checking for missing documentation entries ... OK
* checking for code/documentation mismatches ... OK
* checking Rd \usage sections ... OK
* checking Rd contents ... OK
* checking for unstated dependencies in examples ... OK
* checking sizes of PDF files under ‘inst/doc’ ... OK
* checking files in ‘vignettes’ ... OK
* checking examples ... OK
Examples with CPU (user + system) or elapsed time > 5s
              user system elapsed
ArrayExpress 6.224  1.825  19.766
queryAE      6.400  0.254  11.403
getAE        4.099  0.542  13.912
* checking for unstated dependencies in vignettes ... OK
* checking package vignettes in ‘inst/doc’ ... OK
* checking running R code from vignettes ... SKIPPED
* checking re-building of vignette outputs ... SKIPPED
* checking PDF version of manual ... OK
* DONE

Status: 2 NOTEs
See
  ‘/Users/biocbuild/bbs-3.14-bioc/meat/ArrayExpress.Rcheck/00check.log’
for details.



Installation output

ArrayExpress.Rcheck/00install.out

##############################################################################
##############################################################################
###
### Running command:
###
###   /Library/Frameworks/R.framework/Resources/bin/R CMD INSTALL ArrayExpress
###
##############################################################################
##############################################################################


* installing to library ‘/Library/Frameworks/R.framework/Versions/4.1/Resources/library’
* installing *source* package ‘ArrayExpress’ ...
** using staged installation
** R
** inst
** byte-compile and prepare package for lazy loading
** help
*** installing help indices
** building package indices
** installing vignettes
** testing if installed package can be loaded from temporary location
** testing if installed package can be loaded from final location
** testing if installed package keeps a record of temporary installation path
* DONE (ArrayExpress)

Tests output


Example timings

ArrayExpress.Rcheck/ArrayExpress-Ex.timings

nameusersystemelapsed
ArrayExpress 6.224 1.82519.766
ae2bioc0.0000.0000.001
getAE 4.099 0.54213.912
procset000
queryAE 6.400 0.25411.403