Back to Multiple platform build/check report for BioC 3.14
[A]BCDEFGHIJKLMNOPQRSTUVWXYZ

This page was generated on 2021-11-26 15:05:41 -0500 (Fri, 26 Nov 2021).

BUILD results for AnnotationHubData on machv2

To the developers/maintainers of the AnnotationHubData package:
- Please allow up to 24 hours (and sometimes 48 hours) for your latest push to git@git.bioconductor.org:packages/AnnotationHubData.git to
reflect on this report. See How and When does the builder pull? When will my changes propagate? here for more information.
- Make sure to use the following settings in order to reproduce any error or warning you see on this page.

raw results

Package 64/2083HostnameOS / ArchINSTALLBUILDCHECKBUILD BIN
AnnotationHubData 1.24.1  (landing page)
Bioconductor Package Maintainer
Snapshot Date: 2021-11-25 04:15:05 -0500 (Thu, 25 Nov 2021)
git_url: https://git.bioconductor.org/packages/AnnotationHubData
git_branch: RELEASE_3_14
git_last_commit: c665598
git_last_commit_date: 2021-11-24 12:54:20 -0500 (Wed, 24 Nov 2021)
nebbiolo2Linux (Ubuntu 20.04.3 LTS) / x86_64  OK    OK    WARNINGS  YES
tokay2Windows Server 2012 R2 Standard / x64  OK    OK    WARNINGS    OK  YES
machv2macOS 10.14.6 Mojave / x86_64  OK    OK    WARNINGS    OK  YES

Summary

Package: AnnotationHubData
Version: 1.24.1
Command: /Library/Frameworks/R.framework/Resources/bin/R CMD build --keep-empty-dirs --no-resave-data AnnotationHubData
StartedAt: 2021-11-25 07:44:58 -0500 (Thu, 25 Nov 2021)
EndedAt: 2021-11-25 07:45:51 -0500 (Thu, 25 Nov 2021)
EllapsedTime: 53.5 seconds
RetCode: 0
Status:   OK  
PackageFile: AnnotationHubData_1.24.1.tar.gz
PackageFileSize: 397.6 KiB

Command output

##############################################################################
##############################################################################
###
### Running command:
###
###   /Library/Frameworks/R.framework/Resources/bin/R CMD build --keep-empty-dirs --no-resave-data AnnotationHubData
###
##############################################################################
##############################################################################


* checking for file ‘AnnotationHubData/DESCRIPTION’ ... OK
* preparing ‘AnnotationHubData’:
* checking DESCRIPTION meta-information ... OK
* installing the package to build vignettes
* creating vignettes ... OK
* checking for LF line-endings in source and make files and shell scripts
* checking for empty or unneeded directories
* building ‘AnnotationHubData_1.24.1.tar.gz’