Back to Multiple platform build/check report for BioC 3.14
[A]BCDEFGHIJKLMNOPQRSTUVWXYZ

This page was generated on 2021-11-26 15:05:41 -0500 (Fri, 26 Nov 2021).

BUILD results for AnnotationHub on machv2

To the developers/maintainers of the AnnotationHub package:
- Please allow up to 24 hours (and sometimes 48 hours) for your latest push to git@git.bioconductor.org:packages/AnnotationHub.git to
reflect on this report. See How and When does the builder pull? When will my changes propagate? here for more information.
- Make sure to use the following settings in order to reproduce any error or warning you see on this page.

raw results

Package 63/2083HostnameOS / ArchINSTALLBUILDCHECKBUILD BIN
AnnotationHub 3.2.0  (landing page)
Bioconductor Package Maintainer
Snapshot Date: 2021-11-25 04:15:05 -0500 (Thu, 25 Nov 2021)
git_url: https://git.bioconductor.org/packages/AnnotationHub
git_branch: RELEASE_3_14
git_last_commit: 873fb33
git_last_commit_date: 2021-10-26 12:07:32 -0500 (Tue, 26 Oct 2021)
nebbiolo2Linux (Ubuntu 20.04.3 LTS) / x86_64  OK    OK    WARNINGS  UNNEEDED, same version is already published
tokay2Windows Server 2012 R2 Standard / x64  OK    OK    WARNINGS    OK  UNNEEDED, same version is already published
machv2macOS 10.14.6 Mojave / x86_64  OK    OK    WARNINGS    OK  UNNEEDED, same version is already published

Summary

Package: AnnotationHub
Version: 3.2.0
Command: /Library/Frameworks/R.framework/Resources/bin/R CMD build --keep-empty-dirs --no-resave-data AnnotationHub
StartedAt: 2021-11-25 07:44:49 -0500 (Thu, 25 Nov 2021)
EndedAt: 2021-11-25 07:48:28 -0500 (Thu, 25 Nov 2021)
EllapsedTime: 219.7 seconds
RetCode: 0
Status:   OK  
PackageFile: AnnotationHub_3.2.0.tar.gz
PackageFileSize: 1.014 MiB

Command output

##############################################################################
##############################################################################
###
### Running command:
###
###   /Library/Frameworks/R.framework/Resources/bin/R CMD build --keep-empty-dirs --no-resave-data AnnotationHub
###
##############################################################################
##############################################################################


* checking for file ‘AnnotationHub/DESCRIPTION’ ... OK
* preparing ‘AnnotationHub’:
* checking DESCRIPTION meta-information ... OK
* installing the package to build vignettes
* creating vignettes ... OK
* checking for LF line-endings in source and make files and shell scripts
* checking for empty or unneeded directories
* building ‘AnnotationHub_3.2.0.tar.gz’