Back to Multiple platform build/check report for BioC 3.14
[A]BCDEFGHIJKLMNOPQRSTUVWXYZ

This page was generated on 2021-10-25 14:06:05 -0400 (Mon, 25 Oct 2021).

BUILD BIN results for AnnotationFilter on riesling1

To the developers/maintainers of the AnnotationFilter package:
- Please allow up to 24 hours (and sometimes 48 hours) for your latest push to git@git.bioconductor.org:packages/AnnotationFilter.git to
reflect on this report. See How and When does the builder pull? When will my changes propagate? here for more information.
- Make sure to use the following settings in order to reproduce any error or warning you see on this page.

raw results

Package 61/2083HostnameOS / ArchINSTALLBUILDCHECKBUILD BIN
AnnotationFilter 1.17.1  (landing page)
Bioconductor Package Maintainer
Snapshot Date: 2021-10-24 14:50:04 -0400 (Sun, 24 Oct 2021)
git_url: https://git.bioconductor.org/packages/AnnotationFilter
git_branch: master
git_last_commit: 53cd2f2
git_last_commit_date: 2021-07-26 14:51:11 -0400 (Mon, 26 Jul 2021)
nebbiolo2Linux (Ubuntu 20.04.2 LTS) / x86_64  OK    OK    OK  UNNEEDED, same version is already published
riesling1Windows Server 2019 Standard / x64  OK    OK    OK    OK  UNNEEDED, same version is already published
merida1macOS 10.14.6 Mojave / x86_64  OK    OK    OK    OK  UNNEEDED, same version is already published
machv2macOS 10.14.6 Mojave / x86_64  OK    OK    OK    OK  

Summary

Package: AnnotationFilter
Version: 1.17.1
Command: rm -rf AnnotationFilter.buildbin-libdir && mkdir AnnotationFilter.buildbin-libdir && D:\biocbuild\bbs-3.14-bioc\R\bin\R.exe CMD INSTALL --merge-multiarch --build --library=AnnotationFilter.buildbin-libdir AnnotationFilter_1.17.1.tar.gz
StartedAt: 2021-10-25 04:25:04 -0400 (Mon, 25 Oct 2021)
EndedAt: 2021-10-25 04:29:05 -0400 (Mon, 25 Oct 2021)
EllapsedTime: 240.9 seconds
RetCode: 0
Status:   OK  
PackageFile: AnnotationFilter_1.17.1.zip
PackageFileSize: 539.4 KiB

Command output

##############################################################################
##############################################################################
###
### Running command:
###
###   rm -rf AnnotationFilter.buildbin-libdir && mkdir AnnotationFilter.buildbin-libdir && D:\biocbuild\bbs-3.14-bioc\R\bin\R.exe CMD INSTALL --merge-multiarch --build --library=AnnotationFilter.buildbin-libdir AnnotationFilter_1.17.1.tar.gz
###
##############################################################################
##############################################################################



install for i386

* installing *source* package 'AnnotationFilter' ...
** using staged installation
** R
** inst
** byte-compile and prepare package for lazy loading
** help
*** installing help indices
  converting help for package 'AnnotationFilter'
    finding HTML links ... done
    AnnotationFilter                        html  
    AnnotationFilterList                    html  
    GenenameFilter                          html  
REDIRECT:topic	 Previous alias or file overwritten by alias: D:/biocbuild/bbs-3.14-bioc/meat/AnnotationFilter.buildbin-libdir/00LOCK-AnnotationFilter/00new/AnnotationFilter/help/GenenameFilter.html
REDIRECT:topic	 Previous alias or file overwritten by alias: D:/biocbuild/bbs-3.14-bioc/meat/AnnotationFilter.buildbin-libdir/00LOCK-AnnotationFilter/00new/AnnotationFilter/help/GenenameFilter-class.html
** building package indices
** installing vignettes
** testing if installed package can be loaded from temporary location
** testing if installed package can be loaded from final location
** testing if installed package keeps a record of temporary installation path

install for x64

* installing *source* package 'AnnotationFilter' ...
** testing if installed package can be loaded
* MD5 sums
packaged installation of 'AnnotationFilter' as AnnotationFilter_1.17.1.zip
* DONE (AnnotationFilter)