Back to Multiple platform build/check report for BioC 3.14
[A]BCDEFGHIJKLMNOPQRSTUVWXYZ

This page was generated on 2021-10-26 14:05:25 -0400 (Tue, 26 Oct 2021).

All results for package AnnotationFilter

To the developers/maintainers of the AnnotationFilter package:
- Please allow up to 24 hours (and sometimes 48 hours) for your latest push to git@git.bioconductor.org:packages/AnnotationFilter.git to
reflect on this report. See How and When does the builder pull? When will my changes propagate? here for more information.
- Make sure to use the following settings in order to reproduce any error or warning you see on this page.

raw results

Package 61/2083HostnameOS / ArchINSTALLBUILDCHECKBUILD BIN
AnnotationFilter 1.17.1  (landing page)
Bioconductor Package Maintainer
Snapshot Date: 2021-10-25 14:50:11 -0400 (Mon, 25 Oct 2021)
git_url: https://git.bioconductor.org/packages/AnnotationFilter
git_branch: master
git_last_commit: 53cd2f2
git_last_commit_date: 2021-07-26 14:51:11 -0400 (Mon, 26 Jul 2021)
nebbiolo2Linux (Ubuntu 20.04.2 LTS) / x86_64  OK    OK    OK  UNNEEDED, same version is already published
riesling1Windows Server 2019 Standard / x64  OK    OK    OK    OK  UNNEEDED, same version is already published
merida1macOS 10.14.6 Mojave / x86_64  OK    OK    OK    OK  UNNEEDED, same version is already published
machv2macOS 10.14.6 Mojave / x86_64  OK    OK    OK    OK  

Results for Bioconductor software packages that depend directly on package AnnotationFilter

QUICK STATSOS / ArchINSTALLBUILDCHECKBUILD BIN
nebbiolo2Linux (Ubuntu 20.04.2 LTS) / x86_64
0010
0010
0217
riesling1Windows Server 2019 Standard / x64
009
009
0216
009
merida1macOS 10.14.6 Mojave / x86_64
0010
019
0225
009
machv2macOS 10.14.6 Mojave / x86_64
0010
0010
0217
0010
Package 1/10HostnameOS / ArchINSTALLBUILDCHECKBUILD BIN
biovizBase 1.41.0  (landing page)
Michael Lawrence
git_last_commit: 5360f11
git_last_commit_date: 2021-05-19 11:50:05 -0400
nebbiolo2Linux (Ubuntu 20.04.2 LTS) / x86_64  OK    OK    WARNINGS  UNNEEDED, same version is already published
riesling1Windows Server 2019 Standard / x64  OK    OK    WARNINGS    OK  UNNEEDED, same version is already published
merida1macOS 10.14.6 Mojave / x86_64  OK    OK    WARNINGS    OK  UNNEEDED, same version is already published
machv2macOS 10.14.6 Mojave / x86_64  OK    OK    WARNINGS    OK  
Package 2/10HostnameOS / ArchINSTALLBUILDCHECKBUILD BIN
BUSpaRse 1.7.1  (landing page)
Lambda Moses
git_last_commit: cb37025
git_last_commit_date: 2021-06-07 21:07:36 -0400
nebbiolo2Linux (Ubuntu 20.04.2 LTS) / x86_64  OK    OK    OK  UNNEEDED, same version is already published
riesling1Windows Server 2019 Standard / x64  OK    OK    OK    OK  UNNEEDED, same version is already published
merida1macOS 10.14.6 Mojave / x86_64  OK    ERROR  skippedskipped
machv2macOS 10.14.6 Mojave / x86_64  OK    OK    OK    OK  
Package 3/10HostnameOS / ArchINSTALLBUILDCHECKBUILD BIN
chimeraviz 1.19.0  (landing page)
Stian Lågstad
git_last_commit: b410af5
git_last_commit_date: 2021-05-19 12:24:46 -0400
nebbiolo2Linux (Ubuntu 20.04.2 LTS) / x86_64  OK    OK    OK  UNNEEDED, same version is already published
riesling1Windows Server 2019 Standard / x64  OK    OK    OK    OK  UNNEEDED, same version is already published
merida1macOS 10.14.6 Mojave / x86_64  OK    OK    OK    OK  UNNEEDED, same version is already published
machv2macOS 10.14.6 Mojave / x86_64  OK    OK    OK    OK  
Package 4/10HostnameOS / ArchINSTALLBUILDCHECKBUILD BIN
drugTargetInteractions 1.1.2  (landing page)
Thomas Girke
git_last_commit: 92d269a
git_last_commit_date: 2021-08-26 14:35:37 -0400
nebbiolo2Linux (Ubuntu 20.04.2 LTS) / x86_64  OK    OK    OK  UNNEEDED, same version is already published
riesling1Windows Server 2019 Standard / x64  OK    OK    OK    OK  NO, package depends on 'UniProt.ws' which is not available
merida1macOS 10.14.6 Mojave / x86_64  OK    OK    WARNINGS    OK  UNNEEDED, same version is already published
machv2macOS 10.14.6 Mojave / x86_64  OK    OK    OK    OK  
Package 5/10HostnameOS / ArchINSTALLBUILDCHECKBUILD BIN
ensembldb 2.17.4  (landing page)
Johannes Rainer
git_last_commit: d27cf7e
git_last_commit_date: 2021-08-04 10:04:45 -0400
nebbiolo2Linux (Ubuntu 20.04.2 LTS) / x86_64  OK    OK    OK  UNNEEDED, same version is already published
riesling1Windows Server 2019 Standard / x64  OK    OK    OK    OK  UNNEEDED, same version is already published
merida1macOS 10.14.6 Mojave / x86_64  OK    OK    OK    OK  UNNEEDED, same version is already published
machv2macOS 10.14.6 Mojave / x86_64  OK    OK    OK    OK  
Package 6/10HostnameOS / ArchINSTALLBUILDCHECKBUILD BIN
ggbio 1.41.0  (landing page)
Michael Lawrence
git_last_commit: e144822
git_last_commit_date: 2021-10-05 11:09:10 -0400
nebbiolo2Linux (Ubuntu 20.04.2 LTS) / x86_64  OK    OK    ERROR  
riesling1Windows Server 2019 Standard / x64  OK    OK    ERROR    OK  
merida1macOS 10.14.6 Mojave / x86_64  OK    OK    ERROR    OK  
machv2macOS 10.14.6 Mojave / x86_64  OK    OK    ERROR    OK  
Package 7/10HostnameOS / ArchINSTALLBUILDCHECKBUILD BIN
Organism.dplyr 1.21.0  (landing page)
Martin Morgan
git_last_commit: 859deb3
git_last_commit_date: 2021-05-19 12:26:12 -0400
nebbiolo2Linux (Ubuntu 20.04.2 LTS) / x86_64  OK    OK    ERROR  
riesling1Windows Server 2019 Standard / x64  OK    OK    ERROR    OK  
merida1macOS 10.14.6 Mojave / x86_64  OK    OK    ERROR    OK  
machv2macOS 10.14.6 Mojave / x86_64  OK    OK    ERROR    OK  
Package 8/10HostnameOS / ArchINSTALLBUILDCHECKBUILD BIN
QFeatures 1.3.6  (landing page)
Laurent Gatto
git_last_commit: c8710af
git_last_commit_date: 2021-07-21 04:55:07 -0400
nebbiolo2Linux (Ubuntu 20.04.2 LTS) / x86_64  OK    OK    OK  UNNEEDED, same version is already published
riesling1Windows Server 2019 Standard / x64  OK    OK    OK    OK  UNNEEDED, same version is already published
merida1macOS 10.14.6 Mojave / x86_64  OK    OK    OK    OK  UNNEEDED, same version is already published
machv2macOS 10.14.6 Mojave / x86_64  OK    OK    OK    OK  
Package 9/10HostnameOS / ArchINSTALLBUILDCHECKBUILD BIN
scanMiRApp 0.99.23  (landing page)
Pierre-Luc Germain
git_last_commit: 040022a
git_last_commit_date: 2021-08-11 11:10:41 -0400
nebbiolo2Linux (Ubuntu 20.04.2 LTS) / x86_64  OK    OK    OK  UNNEEDED, same version is already published
riesling1Windows Server 2019 Standard / x64  OK    OK    OK    OK  UNNEEDED, same version is already published
merida1macOS 10.14.6 Mojave / x86_64  OK    OK    OK    OK  UNNEEDED, same version is already published
machv2macOS 10.14.6 Mojave / x86_64  OK    OK    OK    OK  
Package 10/10HostnameOS / ArchINSTALLBUILDCHECKBUILD BIN
TVTB 1.19.1  (landing page)
Kevin Rue-Albrecht
git_last_commit: 45e1709
git_last_commit_date: 2021-08-30 13:11:36 -0400
nebbiolo2Linux (Ubuntu 20.04.2 LTS) / x86_64  OK    OK    OK  UNNEEDED, same version is already published
riesling1Windows Server 2019 Standard / x64... NOT SUPPORTED ...
merida1macOS 10.14.6 Mojave / x86_64  OK    OK    OK    OK  UNNEEDED, same version is already published
machv2macOS 10.14.6 Mojave / x86_64  OK    OK    OK    OK