Back to Multiple platform build/check report for BioC 3.14
[A]BCDEFGHIJKLMNOPQRSTUVWXYZ

This page was generated on 2021-10-23 14:06:18 -0400 (Sat, 23 Oct 2021).

INSTALL results for AnnotationDbi on riesling1

To the developers/maintainers of the AnnotationDbi package:
- Please allow up to 24 hours (and sometimes 48 hours) for your latest push to git@git.bioconductor.org:packages/AnnotationDbi.git to
reflect on this report. See How and When does the builder pull? When will my changes propagate? here for more information.
- Make sure to use the following settings in order to reproduce any error or warning you see on this page.

raw results

Package 60/2083HostnameOS / ArchINSTALLBUILDCHECKBUILD BIN
AnnotationDbi 1.55.2  (landing page)
Bioconductor Package Maintainer
Snapshot Date: 2021-10-22 14:50:11 -0400 (Fri, 22 Oct 2021)
git_url: https://git.bioconductor.org/packages/AnnotationDbi
git_branch: master
git_last_commit: 538101a
git_last_commit_date: 2021-10-19 13:33:56 -0400 (Tue, 19 Oct 2021)
nebbiolo2Linux (Ubuntu 20.04.2 LTS) / x86_64  OK    OK    OK  UNNEEDED, same version is already published
riesling1Windows Server 2019 Standard / x64  OK    OK    OK    OK  UNNEEDED, same version is already published
merida1macOS 10.14.6 Mojave / x86_64  OK    OK    OK    OK  UNNEEDED, same version is already published

Summary

Package: AnnotationDbi
Version: 1.55.2
Command: C:\cygwin\bin\curl.exe -O http://155.52.207.166/BBS/3.14/bioc/src/contrib/AnnotationDbi_1.55.2.tar.gz && rm -rf AnnotationDbi.buildbin-libdir && mkdir AnnotationDbi.buildbin-libdir && D:\biocbuild\bbs-3.14-bioc\R\bin\R.exe CMD INSTALL --merge-multiarch --build --library=AnnotationDbi.buildbin-libdir AnnotationDbi_1.55.2.tar.gz && D:\biocbuild\bbs-3.14-bioc\R\bin\R.exe CMD INSTALL AnnotationDbi_1.55.2.zip && rm AnnotationDbi_1.55.2.tar.gz AnnotationDbi_1.55.2.zip
StartedAt: 2021-10-22 17:13:27 -0400 (Fri, 22 Oct 2021)
EndedAt: 2021-10-22 17:16:33 -0400 (Fri, 22 Oct 2021)
EllapsedTime: 186.1 seconds
RetCode: 0
Status:   OK  

Command output

##############################################################################
##############################################################################
###
### Running command:
###
###   C:\cygwin\bin\curl.exe -O http://155.52.207.166/BBS/3.14/bioc/src/contrib/AnnotationDbi_1.55.2.tar.gz && rm -rf AnnotationDbi.buildbin-libdir && mkdir AnnotationDbi.buildbin-libdir && D:\biocbuild\bbs-3.14-bioc\R\bin\R.exe CMD INSTALL --merge-multiarch --build --library=AnnotationDbi.buildbin-libdir AnnotationDbi_1.55.2.tar.gz && D:\biocbuild\bbs-3.14-bioc\R\bin\R.exe CMD INSTALL AnnotationDbi_1.55.2.zip && rm AnnotationDbi_1.55.2.tar.gz AnnotationDbi_1.55.2.zip
###
##############################################################################
##############################################################################


  % Total    % Received % Xferd  Average Speed   Time    Time     Time  Current
                                 Dload  Upload   Total   Spent    Left  Speed

  0     0    0     0    0     0      0      0 --:--:-- --:--:-- --:--:--     0
 65 3850k   65 2519k    0     0  4467k      0 --:--:-- --:--:-- --:--:-- 4459k
100 3850k  100 3850k    0     0  5086k      0 --:--:-- --:--:-- --:--:-- 5079k

install for i386

* installing *source* package 'AnnotationDbi' ...
** using staged installation
** R
** inst
** byte-compile and prepare package for lazy loading
Creating a new generic function for 'packageName' in package 'AnnotationDbi'
Creating a generic function for 'ls' from package 'base' in package 'AnnotationDbi'
Creating a generic function for 'eapply' from package 'base' in package 'AnnotationDbi'
Creating a generic function for 'exists' from package 'base' in package 'AnnotationDbi'
Creating a generic function for 'sample' from package 'base' in package 'AnnotationDbi'
** help
*** installing help indices
  converting help for package 'AnnotationDbi'
    finding HTML links ... done
    AnnDbObj-class                          html  
    AnnDbPkg-checker                        html  
    AnnotationDb-class                      html  
    AnnotationDbi-internals                 html  
    Bimap-direction                         html  
    Bimap-envirAPI                          html  
    Bimap-keys                              html  
    Bimap-toTable                           html  
    Bimap                                   html  
    BimapFiltering                          html  
    BimapFormatting                         html  
    GOColsAndKeytypes                       html  
    GOFrame                                 html  
    GOTerms-class                           html  
REDIRECT:topic	 Previous alias or file overwritten by alias: D:/biocbuild/bbs-3.14-bioc/meat/AnnotationDbi.buildbin-libdir/00LOCK-AnnotationDbi/00new/AnnotationDbi/help/Term.html
REDIRECT:topic	 Previous alias or file overwritten by alias: D:/biocbuild/bbs-3.14-bioc/meat/AnnotationDbi.buildbin-libdir/00LOCK-AnnotationDbi/00new/AnnotationDbi/help/Ontology.html
REDIRECT:topic	 Previous alias or file overwritten by alias: D:/biocbuild/bbs-3.14-bioc/meat/AnnotationDbi.buildbin-libdir/00LOCK-AnnotationDbi/00new/AnnotationDbi/help/Definition.html
    KEGGFrame                               html  
    colsAndKeytypes                         html  
    createSimpleBimap                       html  
    inpIDMapper                             html  
    makeGOGraph                             html  
    make_eg_to_go_map                       html  
    orgPackageName                          html  
    organismKEGGFrame                       html  
    print.probetable                        html  
    toSQLStringSet                          html  
    unlist2                                 html  
** building package indices
** installing vignettes
** testing if installed package can be loaded from temporary location
** testing if installed package can be loaded from final location
** testing if installed package keeps a record of temporary installation path

install for x64

* installing *source* package 'AnnotationDbi' ...
** testing if installed package can be loaded
* MD5 sums
packaged installation of 'AnnotationDbi' as AnnotationDbi_1.55.2.zip
* DONE (AnnotationDbi)
* installing to library 'D:/biocbuild/bbs-3.14-bioc/R/library'
package 'AnnotationDbi' successfully unpacked and MD5 sums checked