Back to Multiple platform build/check report for BioC 3.14
[A]BCDEFGHIJKLMNOPQRSTUVWXYZ

This page was generated on 2021-10-18 12:03:58 -0400 (Mon, 18 Oct 2021).

CHECK results for AnnotationDbi on riesling1

To the developers/maintainers of the AnnotationDbi package:
- Please allow up to 24 hours (and sometimes 48 hours) for your latest push to git@git.bioconductor.org:packages/AnnotationDbi.git to
reflect on this report. See How and When does the builder pull? When will my changes propagate? here for more information.
- Make sure to use the following settings in order to reproduce any error or warning you see on this page.

raw results

Package 60/2060HostnameOS / ArchINSTALLBUILDCHECKBUILD BIN
AnnotationDbi 1.55.1  (landing page)
Bioconductor Package Maintainer
Snapshot Date: 2021-10-17 14:50:03 -0400 (Sun, 17 Oct 2021)
git_url: https://git.bioconductor.org/packages/AnnotationDbi
git_branch: master
git_last_commit: 5b26730
git_last_commit_date: 2021-06-07 12:10:50 -0400 (Mon, 07 Jun 2021)
nebbiolo2Linux (Ubuntu 20.04.2 LTS) / x86_64  OK    OK    OK  UNNEEDED, same version is already published
riesling1Windows Server 2019 Standard / x64  OK    OK    OK    OK  UNNEEDED, same version is already published
merida1macOS 10.14.6 Mojave / x86_64  OK    OK    OK    OK  UNNEEDED, same version is already published

Summary

Package: AnnotationDbi
Version: 1.55.1
Command: D:\biocbuild\bbs-3.14-bioc\R\bin\R.exe CMD check --force-multiarch --install=check:AnnotationDbi.install-out.txt --library=D:\biocbuild\bbs-3.14-bioc\R\library --no-vignettes --timings AnnotationDbi_1.55.1.tar.gz
StartedAt: 2021-10-17 23:49:38 -0400 (Sun, 17 Oct 2021)
EndedAt: 2021-10-17 23:55:04 -0400 (Sun, 17 Oct 2021)
EllapsedTime: 326.4 seconds
RetCode: 0
Status:   OK  
CheckDir: AnnotationDbi.Rcheck
Warnings: 0

Command output

##############################################################################
##############################################################################
###
### Running command:
###
###   D:\biocbuild\bbs-3.14-bioc\R\bin\R.exe CMD check --force-multiarch --install=check:AnnotationDbi.install-out.txt --library=D:\biocbuild\bbs-3.14-bioc\R\library --no-vignettes --timings AnnotationDbi_1.55.1.tar.gz
###
##############################################################################
##############################################################################


* using log directory 'D:/biocbuild/bbs-3.14-bioc/meat/AnnotationDbi.Rcheck'
* using R version 4.1.1 (2021-08-10)
* using platform: x86_64-w64-mingw32 (64-bit)
* using session charset: ISO8859-1
* using option '--no-vignettes'
* checking for file 'AnnotationDbi/DESCRIPTION' ... OK
* this is package 'AnnotationDbi' version '1.55.1'
* package encoding: UTF-8
* checking package namespace information ... OK
* checking package dependencies ... OK
* checking if this is a source package ... OK
* checking if there is a namespace ... OK
* checking for hidden files and directories ... OK
* checking for portable file names ... OK
* checking whether package 'AnnotationDbi' can be installed ... OK
* checking installed package size ... NOTE
  installed size is  8.9Mb
  sub-directories of 1Mb or more:
    extdata   6.0Mb
* checking package directory ... OK
* checking 'build' directory ... OK
* checking DESCRIPTION meta-information ... OK
* checking top-level files ... OK
* checking for left-over files ... OK
* checking index information ... OK
* checking package subdirectories ... OK
* checking R files for non-ASCII characters ... OK
* checking R files for syntax errors ... OK
* loading checks for arch 'i386'
** checking whether the package can be loaded ... OK
** checking whether the package can be loaded with stated dependencies ... OK
** checking whether the package can be unloaded cleanly ... OK
** checking whether the namespace can be loaded with stated dependencies ... OK
** checking whether the namespace can be unloaded cleanly ... OK
* loading checks for arch 'x64'
** checking whether the package can be loaded ... OK
** checking whether the package can be loaded with stated dependencies ... OK
** checking whether the package can be unloaded cleanly ... OK
** checking whether the namespace can be loaded with stated dependencies ... OK
** checking whether the namespace can be unloaded cleanly ... OK
* checking dependencies in R code ... OK
* checking S3 generic/method consistency ... OK
* checking replacement functions ... OK
* checking foreign function calls ... OK
* checking R code for possible problems ... NOTE
createORGANISMSeeds: no visible global function definition for
  'makeAnnDbMapSeeds'
Undefined global functions or variables:
  makeAnnDbMapSeeds
* checking Rd files ... OK
* checking Rd metadata ... OK
* checking Rd cross-references ... OK
* checking for missing documentation entries ... OK
* checking for code/documentation mismatches ... OK
* checking Rd \usage sections ... OK
* checking Rd contents ... OK
* checking for unstated dependencies in examples ... OK
* checking files in 'vignettes' ... OK
* checking examples ...
** running examples for arch 'i386' ... OK
Examples with CPU (user + system) or elapsed time > 5s
                  user system elapsed
AnnDbPkg-checker 28.63    0.4   30.22
** running examples for arch 'x64' ... OK
Examples with CPU (user + system) or elapsed time > 5s
                  user system elapsed
AnnDbPkg-checker 31.36   0.31   31.67
* checking for unstated dependencies in 'tests' ... OK
* checking tests ...
** running tests for arch 'i386' ...
  Running 'AnnotationDbi_unit_tests.R'
 OK
** running tests for arch 'x64' ...
  Running 'AnnotationDbi_unit_tests.R'
 OK
* checking for unstated dependencies in vignettes ... OK
* checking package vignettes in 'inst/doc' ... OK
* checking running R code from vignettes ... SKIPPED
* checking re-building of vignette outputs ... SKIPPED
* checking PDF version of manual ... OK
* DONE

Status: 2 NOTEs
See
  'D:/biocbuild/bbs-3.14-bioc/meat/AnnotationDbi.Rcheck/00check.log'
for details.



Installation output

AnnotationDbi.Rcheck/00install.out

##############################################################################
##############################################################################
###
### Running command:
###
###   C:\cygwin\bin\curl.exe -O http://155.52.207.166/BBS/3.14/bioc/src/contrib/AnnotationDbi_1.55.1.tar.gz && rm -rf AnnotationDbi.buildbin-libdir && mkdir AnnotationDbi.buildbin-libdir && D:\biocbuild\bbs-3.14-bioc\R\bin\R.exe CMD INSTALL --merge-multiarch --build --library=AnnotationDbi.buildbin-libdir AnnotationDbi_1.55.1.tar.gz && D:\biocbuild\bbs-3.14-bioc\R\bin\R.exe CMD INSTALL AnnotationDbi_1.55.1.zip && rm AnnotationDbi_1.55.1.tar.gz AnnotationDbi_1.55.1.zip
###
##############################################################################
##############################################################################


  % Total    % Received % Xferd  Average Speed   Time    Time     Time  Current
                                 Dload  Upload   Total   Spent    Left  Speed

  0     0    0     0    0     0      0      0 --:--:-- --:--:-- --:--:--     0
 26 3848k   26 1034k    0     0  3348k      0  0:00:01 --:--:--  0:00:01 3337k
100 3848k  100 3848k    0     0  9645k      0 --:--:-- --:--:-- --:--:-- 9621k

install for i386

* installing *source* package 'AnnotationDbi' ...
** using staged installation
** R
** inst
** byte-compile and prepare package for lazy loading
Creating a new generic function for 'packageName' in package 'AnnotationDbi'
Creating a generic function for 'ls' from package 'base' in package 'AnnotationDbi'
Creating a generic function for 'eapply' from package 'base' in package 'AnnotationDbi'
Creating a generic function for 'exists' from package 'base' in package 'AnnotationDbi'
Creating a generic function for 'sample' from package 'base' in package 'AnnotationDbi'
** help
*** installing help indices
  converting help for package 'AnnotationDbi'
    finding HTML links ... done
    AnnDbObj-class                          html  
    AnnDbPkg-checker                        html  
    AnnotationDb-class                      html  
    AnnotationDbi-internals                 html  
    Bimap-direction                         html  
    Bimap-envirAPI                          html  
    Bimap-keys                              html  
    Bimap-toTable                           html  
    Bimap                                   html  
    BimapFiltering                          html  
    BimapFormatting                         html  
    GOColsAndKeytypes                       html  
    GOFrame                                 html  
    GOTerms-class                           html  
REDIRECT:topic	 Previous alias or file overwritten by alias: D:/biocbuild/bbs-3.14-bioc/meat/AnnotationDbi.buildbin-libdir/00LOCK-AnnotationDbi/00new/AnnotationDbi/help/Term.html
REDIRECT:topic	 Previous alias or file overwritten by alias: D:/biocbuild/bbs-3.14-bioc/meat/AnnotationDbi.buildbin-libdir/00LOCK-AnnotationDbi/00new/AnnotationDbi/help/Ontology.html
REDIRECT:topic	 Previous alias or file overwritten by alias: D:/biocbuild/bbs-3.14-bioc/meat/AnnotationDbi.buildbin-libdir/00LOCK-AnnotationDbi/00new/AnnotationDbi/help/Definition.html
    KEGGFrame                               html  
    colsAndKeytypes                         html  
    createSimpleBimap                       html  
    inpIDMapper                             html  
    makeGOGraph                             html  
    make_eg_to_go_map                       html  
    orgPackageName                          html  
    organismKEGGFrame                       html  
    print.probetable                        html  
    toSQLStringSet                          html  
    unlist2                                 html  
** building package indices
** installing vignettes
** testing if installed package can be loaded from temporary location
** testing if installed package can be loaded from final location
** testing if installed package keeps a record of temporary installation path

install for x64

* installing *source* package 'AnnotationDbi' ...
** testing if installed package can be loaded
* MD5 sums
packaged installation of 'AnnotationDbi' as AnnotationDbi_1.55.1.zip
* DONE (AnnotationDbi)
* installing to library 'D:/biocbuild/bbs-3.14-bioc/R/library'
package 'AnnotationDbi' successfully unpacked and MD5 sums checked

Tests output

AnnotationDbi.Rcheck/tests_i386/AnnotationDbi_unit_tests.Rout


R version 4.1.1 (2021-08-10) -- "Kick Things"
Copyright (C) 2021 The R Foundation for Statistical Computing
Platform: i386-w64-mingw32/i386 (32-bit)

R is free software and comes with ABSOLUTELY NO WARRANTY.
You are welcome to redistribute it under certain conditions.
Type 'license()' or 'licence()' for distribution details.

R is a collaborative project with many contributors.
Type 'contributors()' for more information and
'citation()' on how to cite R or R packages in publications.

Type 'demo()' for some demos, 'help()' for on-line help, or
'help.start()' for an HTML browser interface to help.
Type 'q()' to quit R.

> require("AnnotationDbi") || stop("unable to load AnnotationDbi package")
Loading required package: AnnotationDbi
Loading required package: stats4
Loading required package: BiocGenerics

Attaching package: 'BiocGenerics'

The following objects are masked from 'package:stats':

    IQR, mad, sd, var, xtabs

The following objects are masked from 'package:base':

    Filter, Find, Map, Position, Reduce, anyDuplicated, append,
    as.data.frame, basename, cbind, colnames, dirname, do.call,
    duplicated, eval, evalq, get, grep, grepl, intersect, is.unsorted,
    lapply, mapply, match, mget, order, paste, pmax, pmax.int, pmin,
    pmin.int, rank, rbind, rownames, sapply, setdiff, sort, table,
    tapply, union, unique, unsplit, which.max, which.min

Loading required package: Biobase
Welcome to Bioconductor

    Vignettes contain introductory material; view with
    'browseVignettes()'. To cite Bioconductor, see
    'citation("Biobase")', and for packages 'citation("pkgname")'.

Loading required package: IRanges
Loading required package: S4Vectors

Attaching package: 'S4Vectors'

The following objects are masked from 'package:base':

    I, expand.grid, unname


Attaching package: 'IRanges'

The following object is masked from 'package:grDevices':

    windows

[1] TRUE
> 
> AnnotationDbi:::.test()
Loading required package: org.Hs.eg.db

'select()' returned 1:1 mapping between keys and columns
'select()' returned 1:many mapping between keys and columns

'select()' returned 1:1 mapping between keys and columns
'select()' returned 1:many mapping between keys and columns
'select()' returned 1:many mapping between keys and columns
'select()' returned 1:many mapping between keys and columns
'select()' returned 1:many mapping between keys and columns
'select()' returned 1:many mapping between keys and columns
'select()' returned 1:many mapping between keys and columns
'select()' returned 1:many mapping between keys and columns
Loading required package: RSQLite
Loading required package: org.At.tair.db

Loading required package: org.Sc.sgd.db

Loading required package: GO.db

Loading required package: hgu95av2.db
'select()' returned many:many mapping between keys and columns
'select()' returned 1:many mapping between keys and columns
'select()' returned 1:1 mapping between keys and columns
'select()' returned 1:1 mapping between keys and columns
'select()' returned many:1 mapping between keys and columns
'select()' returned 1:1 mapping between keys and columns
'select()' returned many:1 mapping between keys and columns
'select()' returned 1:1 mapping between keys and columns
'select()' returned many:1 mapping between keys and columns
'select()' returned 1:many mapping between keys and columns
'select()' returned 1:many mapping between keys and columns
'select()' returned 1:many mapping between keys and columns
'select()' returned 1:many mapping between keys and columns
'select()' returned 1:1 mapping between keys and columns
'select()' returned 1:1 mapping between keys and columns
'select()' returned 1:1 mapping between keys and columns
'select()' returned 1:1 mapping between keys and columns
'select()' returned 1:1 mapping between keys and columns
'select()' returned 1:1 mapping between keys and columns
'select()' returned 1:many mapping between keys and columns
'select()' returned 1:many mapping between keys and columns
'select()' returned 1:many mapping between keys and columns
'select()' returned 1:many mapping between keys and columns
'select()' returned 1:many mapping between keys and columns
'select()' returned 1:1 mapping between keys and columns
'select()' returned 1:1 mapping between keys and columns
'select()' returned 1:many mapping between keys and columns
'select()' returned 1:many mapping between keys and columns
'select()' returned 1:many mapping between keys and columns
'select()' returned 1:1 mapping between keys and columns
'select()' returned many:1 mapping between keys and columns
'select()' returned 1:many mapping between keys and columns
'select()' returned many:1 mapping between keys and columns

'select()' returned 1:1 mapping between keys and columns
'select()' returned many:many mapping between keys and columns
'select()' returned 1:1 mapping between keys and columns
'select()' returned 1:1 mapping between keys and columns
'select()' returned 1:many mapping between keys and columns
'select()' returned 1:1 mapping between keys and columns
'select()' returned 1:1 mapping between keys and columns
'select()' returned 1:1 mapping between keys and columns
'select()' returned 1:many mapping between keys and columns
Loading required package: reactome.db
'select()' returned 1:many mapping between keys and columns
'select()' returned 1:1 mapping between keys and columns
'select()' returned 1:1 mapping between keys and columns
'select()' returned 1:many mapping between keys and columns
'select()' returned 1:many mapping between keys and columns


RUNIT TEST PROTOCOL -- Sun Oct 17 23:53:15 2021 
*********************************************** 
Number of test functions: 63 
Number of errors: 0 
Number of failures: 0 

 
1 Test Suite : 
AnnotationDbi RUnit Tests - 63 test functions, 0 errors, 0 failures
Number of test functions: 63 
Number of errors: 0 
Number of failures: 0 
Warning messages:
1: In .local(x, ...) : returned vector has duplicated names
2: In .local(x, ...) : returned vector has duplicated names
3: call dbDisconnect() when finished working with a connection 
4: In .deprecatedColsMessage() :
  Accessing gene location information via 'CHR','CHRLOC','CHRLOCEND' is
  deprecated. Please use a range based accessor like genes(), or select()
  with columns values like TXCHROM and TXSTART on a TxDb or OrganismDb
  object instead.
5: In .deprecatedColsMessage() :
  Accessing gene location information via 'CHR','CHRLOC','CHRLOCEND' is
  deprecated. Please use a range based accessor like genes(), or select()
  with columns values like TXCHROM and TXSTART on a TxDb or OrganismDb
  object instead.
6: In .deprecatedColsMessage() :
  Accessing gene location information via 'CHR','CHRLOC','CHRLOCEND' is
  deprecated. Please use a range based accessor like genes(), or select()
  with columns values like TXCHROM and TXSTART on a TxDb or OrganismDb
  object instead.
> 
> proc.time()
   user  system elapsed 
  26.01    1.50   31.84 

AnnotationDbi.Rcheck/tests_x64/AnnotationDbi_unit_tests.Rout


R version 4.1.1 (2021-08-10) -- "Kick Things"
Copyright (C) 2021 The R Foundation for Statistical Computing
Platform: x86_64-w64-mingw32/x64 (64-bit)

R is free software and comes with ABSOLUTELY NO WARRANTY.
You are welcome to redistribute it under certain conditions.
Type 'license()' or 'licence()' for distribution details.

R is a collaborative project with many contributors.
Type 'contributors()' for more information and
'citation()' on how to cite R or R packages in publications.

Type 'demo()' for some demos, 'help()' for on-line help, or
'help.start()' for an HTML browser interface to help.
Type 'q()' to quit R.

> require("AnnotationDbi") || stop("unable to load AnnotationDbi package")
Loading required package: AnnotationDbi
Loading required package: stats4
Loading required package: BiocGenerics

Attaching package: 'BiocGenerics'

The following objects are masked from 'package:stats':

    IQR, mad, sd, var, xtabs

The following objects are masked from 'package:base':

    Filter, Find, Map, Position, Reduce, anyDuplicated, append,
    as.data.frame, basename, cbind, colnames, dirname, do.call,
    duplicated, eval, evalq, get, grep, grepl, intersect, is.unsorted,
    lapply, mapply, match, mget, order, paste, pmax, pmax.int, pmin,
    pmin.int, rank, rbind, rownames, sapply, setdiff, sort, table,
    tapply, union, unique, unsplit, which.max, which.min

Loading required package: Biobase
Welcome to Bioconductor

    Vignettes contain introductory material; view with
    'browseVignettes()'. To cite Bioconductor, see
    'citation("Biobase")', and for packages 'citation("pkgname")'.

Loading required package: IRanges
Loading required package: S4Vectors

Attaching package: 'S4Vectors'

The following objects are masked from 'package:base':

    I, expand.grid, unname


Attaching package: 'IRanges'

The following object is masked from 'package:grDevices':

    windows

[1] TRUE
> 
> AnnotationDbi:::.test()
Loading required package: org.Hs.eg.db

'select()' returned 1:1 mapping between keys and columns
'select()' returned 1:many mapping between keys and columns

'select()' returned 1:1 mapping between keys and columns
'select()' returned 1:many mapping between keys and columns
'select()' returned 1:many mapping between keys and columns
'select()' returned 1:many mapping between keys and columns
'select()' returned 1:many mapping between keys and columns
'select()' returned 1:many mapping between keys and columns
'select()' returned 1:many mapping between keys and columns
'select()' returned 1:many mapping between keys and columns
Loading required package: RSQLite
Loading required package: org.At.tair.db

Loading required package: org.Sc.sgd.db

Loading required package: GO.db

Loading required package: hgu95av2.db
'select()' returned many:many mapping between keys and columns
'select()' returned 1:many mapping between keys and columns
'select()' returned 1:1 mapping between keys and columns
'select()' returned 1:1 mapping between keys and columns
'select()' returned many:1 mapping between keys and columns
'select()' returned 1:1 mapping between keys and columns
'select()' returned many:1 mapping between keys and columns
'select()' returned 1:1 mapping between keys and columns
'select()' returned many:1 mapping between keys and columns
'select()' returned 1:many mapping between keys and columns
'select()' returned 1:many mapping between keys and columns
'select()' returned 1:many mapping between keys and columns
'select()' returned 1:many mapping between keys and columns
'select()' returned 1:1 mapping between keys and columns
'select()' returned 1:1 mapping between keys and columns
'select()' returned 1:1 mapping between keys and columns
'select()' returned 1:1 mapping between keys and columns
'select()' returned 1:1 mapping between keys and columns
'select()' returned 1:1 mapping between keys and columns
'select()' returned 1:many mapping between keys and columns
'select()' returned 1:many mapping between keys and columns
'select()' returned 1:many mapping between keys and columns
'select()' returned 1:many mapping between keys and columns
'select()' returned 1:many mapping between keys and columns
'select()' returned 1:1 mapping between keys and columns
Warning: You have selected the following columns that can have a many to one
  relationship with the primary key: ACCNUM, ALIAS, ENSEMBL,
  ENSEMBLPROT, ENSEMBLTRANS, ENZYME, EVIDENCE, EVIDENCEALL, GO, GOALL,
  IPI, MAP, OMIM, ONTOLOGY, ONTOLOGYALL, PATH, PFAM, PMID, PROSITE,
  REFSEQ, UCSCKG, UNIPROT . Because you have selected more than a few
  such columns there is a risk that this selection may balloon up into
  a very large result as the number of rows returned multiplies
  accordingly. To experience smaller/more manageable results and faster
  retrieval times, you might want to consider selecting these columns
  separately.
'select()' returned 1:many mapping between keys and columns
'select()' returned 1:1 mapping between keys and columns
'select()' returned 1:many mapping between keys and columns
'select()' returned 1:many mapping between keys and columns
'select()' returned 1:many mapping between keys and columns
'select()' returned 1:1 mapping between keys and columns
'select()' returned many:1 mapping between keys and columns
'select()' returned 1:many mapping between keys and columns
'select()' returned many:1 mapping between keys and columns

'select()' returned 1:1 mapping between keys and columns
'select()' returned many:many mapping between keys and columns
'select()' returned 1:1 mapping between keys and columns
'select()' returned 1:1 mapping between keys and columns
'select()' returned 1:many mapping between keys and columns
'select()' returned 1:1 mapping between keys and columns
'select()' returned 1:1 mapping between keys and columns
'select()' returned 1:1 mapping between keys and columns
'select()' returned 1:many mapping between keys and columns
Loading required package: reactome.db
'select()' returned 1:many mapping between keys and columns
'select()' returned 1:1 mapping between keys and columns
'select()' returned 1:1 mapping between keys and columns
'select()' returned 1:many mapping between keys and columns
'select()' returned 1:many mapping between keys and columns


RUNIT TEST PROTOCOL -- Sun Oct 17 23:53:55 2021 
*********************************************** 
Number of test functions: 63 
Number of errors: 0 
Number of failures: 0 

 
1 Test Suite : 
AnnotationDbi RUnit Tests - 63 test functions, 0 errors, 0 failures
Number of test functions: 63 
Number of errors: 0 
Number of failures: 0 
Warning messages:
1: In .local(x, ...) : returned vector has duplicated names
2: In .local(x, ...) : returned vector has duplicated names
3: call dbDisconnect() when finished working with a connection 
4: In .deprecatedColsMessage() :
  Accessing gene location information via 'CHR','CHRLOC','CHRLOCEND' is
  deprecated. Please use a range based accessor like genes(), or select()
  with columns values like TXCHROM and TXSTART on a TxDb or OrganismDb
  object instead.
5: In .deprecatedColsMessage() :
  Accessing gene location information via 'CHR','CHRLOC','CHRLOCEND' is
  deprecated. Please use a range based accessor like genes(), or select()
  with columns values like TXCHROM and TXSTART on a TxDb or OrganismDb
  object instead.
6: In .deprecatedColsMessage() :
  Accessing gene location information via 'CHR','CHRLOC','CHRLOCEND' is
  deprecated. Please use a range based accessor like genes(), or select()
  with columns values like TXCHROM and TXSTART on a TxDb or OrganismDb
  object instead.
> 
> proc.time()
   user  system elapsed 
  33.07    2.73   39.50 

Example timings

AnnotationDbi.Rcheck/examples_i386/AnnotationDbi-Ex.timings

nameusersystemelapsed
AnnDbObj-class0.210.050.25
AnnDbPkg-checker28.63 0.4030.22
AnnotationDb-class1.300.181.47
Bimap-direction2.141.013.16
Bimap-envirAPI0.390.270.66
Bimap-keys0.500.010.52
Bimap-toTable1.450.061.75
Bimap1.250.551.79
BimapFiltering0.090.000.09
BimapFormatting0.220.020.24
GOColsAndKeytypes0.080.010.09
GOFrame0.960.551.52
GOTerms-class000
KEGGFrame0.040.002.14
colsAndKeytypes0.110.000.11
createSimpleBimap0.060.000.06
inpIDMapper000
makeGOGraph0.150.000.16
make_eg_to_go_map0.080.030.11
organismKEGGFrame1.810.393.03
print.probetable0.430.150.58
toSQLStringSet000
unlist20.090.000.09

AnnotationDbi.Rcheck/examples_x64/AnnotationDbi-Ex.timings

nameusersystemelapsed
AnnDbObj-class0.250.040.28
AnnDbPkg-checker31.36 0.3131.67
AnnotationDb-class1.200.221.43
Bimap-direction1.960.872.85
Bimap-envirAPI0.380.270.64
Bimap-keys0.470.010.48
Bimap-toTable1.300.031.33
Bimap1.140.491.62
BimapFiltering0.090.000.10
BimapFormatting0.20.00.2
GOColsAndKeytypes0.100.010.11
GOFrame0.950.521.47
GOTerms-class000
KEGGFrame0.060.001.50
colsAndKeytypes0.130.020.14
createSimpleBimap0.060.000.06
inpIDMapper000
makeGOGraph0.140.010.16
make_eg_to_go_map0.110.000.11
organismKEGGFrame1.250.493.06
print.probetable0.440.180.63
toSQLStringSet000
unlist20.090.000.09