Back to Multiple platform build/check report for BioC 3.14
[A]BCDEFGHIJKLMNOPQRSTUVWXYZ

This page was generated on 2021-10-19 12:05:19 -0400 (Tue, 19 Oct 2021).

BUILD results for AnnotationDbi on merida1

To the developers/maintainers of the AnnotationDbi package:
- Please allow up to 24 hours (and sometimes 48 hours) for your latest push to git@git.bioconductor.org:packages/AnnotationDbi.git to
reflect on this report. See How and When does the builder pull? When will my changes propagate? here for more information.
- Make sure to use the following settings in order to reproduce any error or warning you see on this page.

raw results

Package 60/2060HostnameOS / ArchINSTALLBUILDCHECKBUILD BIN
AnnotationDbi 1.55.1  (landing page)
Bioconductor Package Maintainer
Snapshot Date: 2021-10-18 14:50:10 -0400 (Mon, 18 Oct 2021)
git_url: https://git.bioconductor.org/packages/AnnotationDbi
git_branch: master
git_last_commit: 5b26730
git_last_commit_date: 2021-06-07 12:10:50 -0400 (Mon, 07 Jun 2021)
nebbiolo2Linux (Ubuntu 20.04.2 LTS) / x86_64  OK    OK    OK  UNNEEDED, same version is already published
riesling1Windows Server 2019 Standard / x64  OK    OK    OK    OK  UNNEEDED, same version is already published
merida1macOS 10.14.6 Mojave / x86_64  OK    OK    OK    OK  UNNEEDED, same version is already published

Summary

Package: AnnotationDbi
Version: 1.55.1
Command: /Library/Frameworks/R.framework/Resources/bin/R CMD build --keep-empty-dirs --no-resave-data AnnotationDbi
StartedAt: 2021-10-18 18:25:11 -0400 (Mon, 18 Oct 2021)
EndedAt: 2021-10-18 18:26:26 -0400 (Mon, 18 Oct 2021)
EllapsedTime: 74.5 seconds
RetCode: 0
Status:   OK  
PackageFile: AnnotationDbi_1.55.1.tar.gz
PackageFileSize: 4.142 MiB

Command output

##############################################################################
##############################################################################
###
### Running command:
###
###   /Library/Frameworks/R.framework/Resources/bin/R CMD build --keep-empty-dirs --no-resave-data AnnotationDbi
###
##############################################################################
##############################################################################


* checking for file ‘AnnotationDbi/DESCRIPTION’ ... OK
* preparing ‘AnnotationDbi’:
* checking DESCRIPTION meta-information ... OK
* installing the package to build vignettes
* creating vignettes ... OK
* checking for LF line-endings in source and make files and shell scripts
* checking for empty or unneeded directories
* building ‘AnnotationDbi_1.55.1.tar.gz’