Back to Multiple platform build/check report for BioC 3.14
[A]BCDEFGHIJKLMNOPQRSTUVWXYZ

This page was generated on 2021-10-18 12:03:58 -0400 (Mon, 18 Oct 2021).

INSTALL results for Anaquin on riesling1

To the developers/maintainers of the Anaquin package:
- Please allow up to 24 hours (and sometimes 48 hours) for your latest push to git@git.bioconductor.org:packages/Anaquin.git to
reflect on this report. See How and When does the builder pull? When will my changes propagate? here for more information.
- Make sure to use the following settings in order to reproduce any error or warning you see on this page.

raw results

Package 52/2060HostnameOS / ArchINSTALLBUILDCHECKBUILD BIN
Anaquin 2.17.0  (landing page)
Ted Wong
Snapshot Date: 2021-10-17 14:50:03 -0400 (Sun, 17 Oct 2021)
git_url: https://git.bioconductor.org/packages/Anaquin
git_branch: master
git_last_commit: 9583e6c
git_last_commit_date: 2021-05-19 12:22:36 -0400 (Wed, 19 May 2021)
nebbiolo2Linux (Ubuntu 20.04.2 LTS) / x86_64  OK    OK    OK  UNNEEDED, same version is already published
riesling1Windows Server 2019 Standard / x64  OK    OK    OK    OK  UNNEEDED, same version is already published
merida1macOS 10.14.6 Mojave / x86_64  OK    OK    OK    OK  UNNEEDED, same version is already published

Summary

Package: Anaquin
Version: 2.17.0
Command: C:\cygwin\bin\curl.exe -O http://155.52.207.166/BBS/3.14/bioc/src/contrib/Anaquin_2.17.0.tar.gz && rm -rf Anaquin.buildbin-libdir && mkdir Anaquin.buildbin-libdir && D:\biocbuild\bbs-3.14-bioc\R\bin\R.exe CMD INSTALL --merge-multiarch --build --library=Anaquin.buildbin-libdir Anaquin_2.17.0.tar.gz && D:\biocbuild\bbs-3.14-bioc\R\bin\R.exe CMD INSTALL Anaquin_2.17.0.zip && rm Anaquin_2.17.0.tar.gz Anaquin_2.17.0.zip
StartedAt: 2021-10-17 18:05:34 -0400 (Sun, 17 Oct 2021)
EndedAt: 2021-10-17 18:08:36 -0400 (Sun, 17 Oct 2021)
EllapsedTime: 183.0 seconds
RetCode: 0
Status:   OK  

Command output

##############################################################################
##############################################################################
###
### Running command:
###
###   C:\cygwin\bin\curl.exe -O http://155.52.207.166/BBS/3.14/bioc/src/contrib/Anaquin_2.17.0.tar.gz && rm -rf Anaquin.buildbin-libdir && mkdir Anaquin.buildbin-libdir && D:\biocbuild\bbs-3.14-bioc\R\bin\R.exe CMD INSTALL --merge-multiarch --build --library=Anaquin.buildbin-libdir Anaquin_2.17.0.tar.gz && D:\biocbuild\bbs-3.14-bioc\R\bin\R.exe CMD INSTALL Anaquin_2.17.0.zip && rm Anaquin_2.17.0.tar.gz Anaquin_2.17.0.zip
###
##############################################################################
##############################################################################


  % Total    % Received % Xferd  Average Speed   Time    Time     Time  Current
                                 Dload  Upload   Total   Spent    Left  Speed

  0     0    0     0    0     0      0      0 --:--:-- --:--:-- --:--:--     0
100 90386  100 90386    0     0   565k      0 --:--:-- --:--:-- --:--:--  565k

install for i386

* installing *source* package 'Anaquin' ...
** using staged installation
** R
** data
*** moving datasets to lazyload DB
** inst
** byte-compile and prepare package for lazy loading
** help
*** installing help indices
  converting help for package 'Anaquin'
    finding HTML links ... done
    RnaQuinGeneMixture                      html  
    RnaQuinIsoformMixture                   html  
    UserGuideData_5.4.5.1                   html  
    UserGuideData_5.4.6.3                   html  
    UserGuideData_5.6.3                     html  
    plotConjoint                            html  
    plotLOD                                 html  
    plotLinear                              html  
    plotLogistic                            html  
    plotROC                                 html  
** building package indices
** installing vignettes
** testing if installed package can be loaded from temporary location
** testing if installed package can be loaded from final location
** testing if installed package keeps a record of temporary installation path

install for x64

* installing *source* package 'Anaquin' ...
** testing if installed package can be loaded
* MD5 sums
packaged installation of 'Anaquin' as Anaquin_2.17.0.zip
* DONE (Anaquin)
* installing to library 'D:/biocbuild/bbs-3.14-bioc/R/library'
package 'Anaquin' successfully unpacked and MD5 sums checked