Back to Multiple platform build/check report for BioC 3.14
[A]BCDEFGHIJKLMNOPQRSTUVWXYZ

This page was generated on 2021-10-19 12:04:22 -0400 (Tue, 19 Oct 2021).

BUILD results for Anaquin on nebbiolo2

To the developers/maintainers of the Anaquin package:
- Please allow up to 24 hours (and sometimes 48 hours) for your latest push to git@git.bioconductor.org:packages/Anaquin.git to
reflect on this report. See How and When does the builder pull? When will my changes propagate? here for more information.
- Make sure to use the following settings in order to reproduce any error or warning you see on this page.

raw results

Package 52/2060HostnameOS / ArchINSTALLBUILDCHECKBUILD BIN
Anaquin 2.17.0  (landing page)
Ted Wong
Snapshot Date: 2021-10-18 14:50:10 -0400 (Mon, 18 Oct 2021)
git_url: https://git.bioconductor.org/packages/Anaquin
git_branch: master
git_last_commit: 9583e6c
git_last_commit_date: 2021-05-19 12:22:36 -0400 (Wed, 19 May 2021)
nebbiolo2Linux (Ubuntu 20.04.2 LTS) / x86_64  OK    OK    OK  UNNEEDED, same version is already published
riesling1Windows Server 2019 Standard / x64  OK    OK    OK    OK  UNNEEDED, same version is already published
merida1macOS 10.14.6 Mojave / x86_64  OK    OK    OK    OK  UNNEEDED, same version is already published

Summary

Package: Anaquin
Version: 2.17.0
Command: /home/biocbuild/bbs-3.14-bioc/R/bin/R CMD build --keep-empty-dirs --no-resave-data Anaquin
StartedAt: 2021-10-18 16:44:14 -0400 (Mon, 18 Oct 2021)
EndedAt: 2021-10-18 16:44:31 -0400 (Mon, 18 Oct 2021)
EllapsedTime: 16.6 seconds
RetCode: 0
Status:   OK  
PackageFile: Anaquin_2.17.0.tar.gz
PackageFileSize: 442.5 KiB

Command output

##############################################################################
##############################################################################
###
### Running command:
###
###   /home/biocbuild/bbs-3.14-bioc/R/bin/R CMD build --keep-empty-dirs --no-resave-data Anaquin
###
##############################################################################
##############################################################################


* checking for file ‘Anaquin/DESCRIPTION’ ... OK
* preparing ‘Anaquin’:
* checking DESCRIPTION meta-information ... OK
* installing the package to build vignettes
* creating vignettes ... OK
* checking for LF line-endings in source and make files and shell scripts
* checking for empty or unneeded directories
* building ‘Anaquin_2.17.0.tar.gz’