Back to Multiple platform build/check report for BioC 3.14
[A]BCDEFGHIJKLMNOPQRSTUVWXYZ

This page was generated on 2021-10-23 14:06:18 -0400 (Sat, 23 Oct 2021).

BUILD results for AnVILPublish on riesling1

To the developers/maintainers of the AnVILPublish package:
- Please allow up to 24 hours (and sometimes 48 hours) for your latest push to git@git.bioconductor.org:packages/AnVILPublish.git to
reflect on this report. See How and When does the builder pull? When will my changes propagate? here for more information.
- Make sure to use the following settings in order to reproduce any error or warning you see on this page.

raw results

Package 72/2083HostnameOS / ArchINSTALLBUILDCHECKBUILD BIN
AnVILPublish 1.3.2  (landing page)
Martin Morgan
Snapshot Date: 2021-10-22 14:50:11 -0400 (Fri, 22 Oct 2021)
git_url: https://git.bioconductor.org/packages/AnVILPublish
git_branch: master
git_last_commit: 2cda13c
git_last_commit_date: 2021-08-08 17:34:37 -0400 (Sun, 08 Aug 2021)
nebbiolo2Linux (Ubuntu 20.04.2 LTS) / x86_64  OK    OK    OK  UNNEEDED, same version is already published
riesling1Windows Server 2019 Standard / x64  OK    OK    OK    OK  UNNEEDED, same version is already published
merida1macOS 10.14.6 Mojave / x86_64  OK    OK    OK    OK  UNNEEDED, same version is already published

Summary

Package: AnVILPublish
Version: 1.3.2
Command: chmod a+r AnVILPublish -R && D:\biocbuild\bbs-3.14-bioc\R\bin\R.exe CMD build --keep-empty-dirs --no-resave-data AnVILPublish
StartedAt: 2021-10-22 19:27:33 -0400 (Fri, 22 Oct 2021)
EndedAt: 2021-10-22 19:32:17 -0400 (Fri, 22 Oct 2021)
EllapsedTime: 283.8 seconds
RetCode: 0
Status:   OK  
PackageFile: AnVILPublish_1.3.2.tar.gz
PackageFileSize: 234.5 KiB

Command output

##############################################################################
##############################################################################
###
### Running command:
###
###   chmod a+r AnVILPublish -R && D:\biocbuild\bbs-3.14-bioc\R\bin\R.exe CMD build --keep-empty-dirs --no-resave-data AnVILPublish
###
##############################################################################
##############################################################################


* checking for file 'AnVILPublish/DESCRIPTION' ... OK
* preparing 'AnVILPublish':
* checking DESCRIPTION meta-information ... OK
* installing the package to build vignettes
* creating vignettes ... OK
* checking for LF line-endings in source and make files and shell scripts
* checking for empty or unneeded directories
* building 'AnVILPublish_1.3.2.tar.gz'