Back to Multiple platform build/check report for BioC 3.14
[A]BCDEFGHIJKLMNOPQRSTUVWXYZ

This page was generated on 2021-10-25 14:06:05 -0400 (Mon, 25 Oct 2021).

BUILD BIN results for AnVILPublish on riesling1

To the developers/maintainers of the AnVILPublish package:
- Please allow up to 24 hours (and sometimes 48 hours) for your latest push to git@git.bioconductor.org:packages/AnVILPublish.git to
reflect on this report. See How and When does the builder pull? When will my changes propagate? here for more information.
- Make sure to use the following settings in order to reproduce any error or warning you see on this page.

raw results

Package 72/2083HostnameOS / ArchINSTALLBUILDCHECKBUILD BIN
AnVILPublish 1.3.2  (landing page)
Martin Morgan
Snapshot Date: 2021-10-24 14:50:04 -0400 (Sun, 24 Oct 2021)
git_url: https://git.bioconductor.org/packages/AnVILPublish
git_branch: master
git_last_commit: 2cda13c
git_last_commit_date: 2021-08-08 17:34:37 -0400 (Sun, 08 Aug 2021)
nebbiolo2Linux (Ubuntu 20.04.2 LTS) / x86_64  OK    OK    OK  UNNEEDED, same version is already published
riesling1Windows Server 2019 Standard / x64  OK    OK    OK    OK  UNNEEDED, same version is already published
merida1macOS 10.14.6 Mojave / x86_64  OK    OK    OK    OK  UNNEEDED, same version is already published
machv2macOS 10.14.6 Mojave / x86_64  OK    OK    OK    OK  

Summary

Package: AnVILPublish
Version: 1.3.2
Command: rm -rf AnVILPublish.buildbin-libdir && mkdir AnVILPublish.buildbin-libdir && D:\biocbuild\bbs-3.14-bioc\R\bin\R.exe CMD INSTALL --merge-multiarch --build --library=AnVILPublish.buildbin-libdir AnVILPublish_1.3.2.tar.gz
StartedAt: 2021-10-25 04:26:19 -0400 (Mon, 25 Oct 2021)
EndedAt: 2021-10-25 04:30:19 -0400 (Mon, 25 Oct 2021)
EllapsedTime: 240.0 seconds
RetCode: 0
Status:   OK  
PackageFile: AnVILPublish_1.3.2.zip
PackageFileSize: 268.2 KiB

Command output

##############################################################################
##############################################################################
###
### Running command:
###
###   rm -rf AnVILPublish.buildbin-libdir && mkdir AnVILPublish.buildbin-libdir && D:\biocbuild\bbs-3.14-bioc\R\bin\R.exe CMD INSTALL --merge-multiarch --build --library=AnVILPublish.buildbin-libdir AnVILPublish_1.3.2.tar.gz
###
##############################################################################
##############################################################################



install for i386

* installing *source* package 'AnVILPublish' ...
** using staged installation
** R
** inst
** byte-compile and prepare package for lazy loading
** help
*** installing help indices
  converting help for package 'AnVILPublish'
    finding HTML links ... done
    add_access                              html  
    as_notebook                             html  
    as_workspace                            html  
** building package indices
** installing vignettes
** testing if installed package can be loaded from temporary location
** testing if installed package can be loaded from final location
** testing if installed package keeps a record of temporary installation path

install for x64

* installing *source* package 'AnVILPublish' ...
** testing if installed package can be loaded
* MD5 sums
packaged installation of 'AnVILPublish' as AnVILPublish_1.3.2.zip
* DONE (AnVILPublish)