Back to Multiple platform build/check report for BioC 3.14
[A]BCDEFGHIJKLMNOPQRSTUVWXYZ

This page was generated on 2021-10-18 12:03:58 -0400 (Mon, 18 Oct 2021).

INSTALL results for AnVILBilling on riesling1

To the developers/maintainers of the AnVILBilling package:
- Please allow up to 24 hours (and sometimes 48 hours) for your latest push to git@git.bioconductor.org:packages/AnVILBilling.git to
reflect on this report. See How and When does the builder pull? When will my changes propagate? here for more information.
- Make sure to use the following settings in order to reproduce any error or warning you see on this page.

raw results

Package 71/2060HostnameOS / ArchINSTALLBUILDCHECKBUILD BIN
AnVILBilling 1.3.1  (landing page)
Vince Carey
Snapshot Date: 2021-10-17 14:50:03 -0400 (Sun, 17 Oct 2021)
git_url: https://git.bioconductor.org/packages/AnVILBilling
git_branch: master
git_last_commit: c6b51b1
git_last_commit_date: 2021-07-19 23:56:58 -0400 (Mon, 19 Jul 2021)
nebbiolo2Linux (Ubuntu 20.04.2 LTS) / x86_64  OK    OK    OK  UNNEEDED, same version is already published
riesling1Windows Server 2019 Standard / x64  OK    OK    OK    OK  UNNEEDED, same version is already published
merida1macOS 10.14.6 Mojave / x86_64  OK    OK    OK    OK  UNNEEDED, same version is already published

Summary

Package: AnVILBilling
Version: 1.3.1
Command: C:\cygwin\bin\curl.exe -O http://155.52.207.166/BBS/3.14/bioc/src/contrib/AnVILBilling_1.3.1.tar.gz && rm -rf AnVILBilling.buildbin-libdir && mkdir AnVILBilling.buildbin-libdir && D:\biocbuild\bbs-3.14-bioc\R\bin\R.exe CMD INSTALL --merge-multiarch --build --library=AnVILBilling.buildbin-libdir AnVILBilling_1.3.1.tar.gz && D:\biocbuild\bbs-3.14-bioc\R\bin\R.exe CMD INSTALL AnVILBilling_1.3.1.zip && rm AnVILBilling_1.3.1.tar.gz AnVILBilling_1.3.1.zip
StartedAt: 2021-10-17 18:29:57 -0400 (Sun, 17 Oct 2021)
EndedAt: 2021-10-17 18:33:01 -0400 (Sun, 17 Oct 2021)
EllapsedTime: 184.0 seconds
RetCode: 0
Status:   OK  

Command output

##############################################################################
##############################################################################
###
### Running command:
###
###   C:\cygwin\bin\curl.exe -O http://155.52.207.166/BBS/3.14/bioc/src/contrib/AnVILBilling_1.3.1.tar.gz && rm -rf AnVILBilling.buildbin-libdir && mkdir AnVILBilling.buildbin-libdir && D:\biocbuild\bbs-3.14-bioc\R\bin\R.exe CMD INSTALL --merge-multiarch --build --library=AnVILBilling.buildbin-libdir AnVILBilling_1.3.1.tar.gz && D:\biocbuild\bbs-3.14-bioc\R\bin\R.exe CMD INSTALL AnVILBilling_1.3.1.zip && rm AnVILBilling_1.3.1.tar.gz AnVILBilling_1.3.1.zip
###
##############################################################################
##############################################################################


  % Total    % Received % Xferd  Average Speed   Time    Time     Time  Current
                                 Dload  Upload   Total   Spent    Left  Speed

  0     0    0     0    0     0      0      0 --:--:-- --:--:-- --:--:--     0
  7  532k    7 40407    0     0   257k      0  0:00:02 --:--:--  0:00:02  256k
100  532k  100  532k    0     0  1992k      0 --:--:-- --:--:-- --:--:-- 1992k

install for i386

* installing *source* package 'AnVILBilling' ...
** using staged installation
** R
** data
*** moving datasets to lazyload DB
** inst
** byte-compile and prepare package for lazy loading
** help
*** installing help indices
  converting help for package 'AnVILBilling'
    finding HTML links ... done
    ab_reckoning                            html  
    browse_reck                             html  
    browse_reck2                            html  
    demo_rec                                html  
    getBilling                              html  
    getKeys                                 html  
    getSkus                                 html  
    getSubmissionCost                       html  
    getSubmissionRam                        html  
    getValues                               html  
    reckon                                  html  
    reckoning-avReckoning-method            html  
    reckoning                               html  
    setup_billing_request                   html  
    subsetByKeyValue                        html  
    subsetBySku                             html  
** building package indices
** installing vignettes
** testing if installed package can be loaded from temporary location
** testing if installed package can be loaded from final location
** testing if installed package keeps a record of temporary installation path

install for x64

* installing *source* package 'AnVILBilling' ...
** testing if installed package can be loaded
* MD5 sums
packaged installation of 'AnVILBilling' as AnVILBilling_1.3.1.zip
* DONE (AnVILBilling)
* installing to library 'D:/biocbuild/bbs-3.14-bioc/R/library'
package 'AnVILBilling' successfully unpacked and MD5 sums checked