Back to Multiple platform build/check report for BioC 3.14
[A]BCDEFGHIJKLMNOPQRSTUVWXYZ

This page was generated on 2021-10-22 12:04:18 -0400 (Fri, 22 Oct 2021).

BUILD BIN results for AnVILBilling on riesling1

To the developers/maintainers of the AnVILBilling package:
- Please allow up to 24 hours (and sometimes 48 hours) for your latest push to git@git.bioconductor.org:packages/AnVILBilling.git to
reflect on this report. See How and When does the builder pull? When will my changes propagate? here for more information.
- Make sure to use the following settings in order to reproduce any error or warning you see on this page.

raw results

Package 71/2075HostnameOS / ArchINSTALLBUILDCHECKBUILD BIN
AnVILBilling 1.3.1  (landing page)
Vince Carey
Snapshot Date: 2021-10-21 14:50:08 -0400 (Thu, 21 Oct 2021)
git_url: https://git.bioconductor.org/packages/AnVILBilling
git_branch: master
git_last_commit: c6b51b1
git_last_commit_date: 2021-07-19 23:56:58 -0400 (Mon, 19 Jul 2021)
nebbiolo2Linux (Ubuntu 20.04.2 LTS) / x86_64  OK    OK    OK  UNNEEDED, same version is already published
riesling1Windows Server 2019 Standard / x64  OK    OK    OK    OK  UNNEEDED, same version is already published
merida1macOS 10.14.6 Mojave / x86_64  OK    OK    OK    OK  UNNEEDED, same version is already published

Summary

Package: AnVILBilling
Version: 1.3.1
Command: rm -rf AnVILBilling.buildbin-libdir && mkdir AnVILBilling.buildbin-libdir && D:\biocbuild\bbs-3.14-bioc\R\bin\R.exe CMD INSTALL --merge-multiarch --build --library=AnVILBilling.buildbin-libdir AnVILBilling_1.3.1.tar.gz
StartedAt: 2021-10-22 04:23:08 -0400 (Fri, 22 Oct 2021)
EndedAt: 2021-10-22 04:27:05 -0400 (Fri, 22 Oct 2021)
EllapsedTime: 237.2 seconds
RetCode: 0
Status:   OK  
PackageFile: AnVILBilling_1.3.1.zip
PackageFileSize: 705 KiB

Command output

##############################################################################
##############################################################################
###
### Running command:
###
###   rm -rf AnVILBilling.buildbin-libdir && mkdir AnVILBilling.buildbin-libdir && D:\biocbuild\bbs-3.14-bioc\R\bin\R.exe CMD INSTALL --merge-multiarch --build --library=AnVILBilling.buildbin-libdir AnVILBilling_1.3.1.tar.gz
###
##############################################################################
##############################################################################



install for i386

* installing *source* package 'AnVILBilling' ...
** using staged installation
** R
** data
*** moving datasets to lazyload DB
** inst
** byte-compile and prepare package for lazy loading
** help
*** installing help indices
  converting help for package 'AnVILBilling'
    finding HTML links ... done
    ab_reckoning                            html  
    browse_reck                             html  
    browse_reck2                            html  
    demo_rec                                html  
    getBilling                              html  
    getKeys                                 html  
    getSkus                                 html  
    getSubmissionCost                       html  
    getSubmissionRam                        html  
    getValues                               html  
    reckon                                  html  
    reckoning-avReckoning-method            html  
    reckoning                               html  
    setup_billing_request                   html  
    subsetByKeyValue                        html  
    subsetBySku                             html  
** building package indices
** installing vignettes
** testing if installed package can be loaded from temporary location
** testing if installed package can be loaded from final location
** testing if installed package keeps a record of temporary installation path

install for x64

* installing *source* package 'AnVILBilling' ...
** testing if installed package can be loaded
* MD5 sums
packaged installation of 'AnVILBilling' as AnVILBilling_1.3.1.zip
* DONE (AnVILBilling)