![]() | Name | Last modified | Size | Description |
---|---|---|---|---|
![]() | Parent Directory | - | ||
![]() | buildbin-summary.dcf | 14-Apr-2022 01:06 | 566 | |
![]() | buildbin-out.txt | 14-Apr-2022 01:06 | 2.2K | |
![]() | checksrc-summary.dcf | 14-Apr-2022 01:06 | 480 | |
![]() | checksrc-out.txt | 14-Apr-2022 01:06 | 4.9K | |
![]() | buildsrc-summary.dcf | 14-Apr-2022 01:06 | 476 | |
![]() | buildsrc-out.txt | 14-Apr-2022 01:06 | 869 | |
![]() | install-summary.dcf | 14-Apr-2022 01:06 | 679 | |
![]() | install-out.txt | 14-Apr-2022 01:06 | 3.0K | |