Index of /checkResults/3.14/bioc-LATEST/AnVILBilling/raw-results/nebbiolo2

[ICO]NameLast modifiedSizeDescription

[DIR]Parent Directory  -  
[TXT]buildsrc-out.txt15-Jan-2022 03:04 825  
[   ]buildsrc-summary.dcf15-Jan-2022 03:04 430  
[TXT]checksrc-out.txt15-Jan-2022 03:04 4.4K 
[   ]checksrc-summary.dcf15-Jan-2022 03:04 441  
[TXT]install-out.txt15-Jan-2022 03:04 1.0K 
[   ]install-summary.dcf15-Jan-2022 03:04 267