Index of /checkResults/3.14/bioc-LATEST/AnVILBilling/raw-results/machv2

[ICO]NameLast modifiedSizeDescription

[DIR]Parent Directory  -  
[TXT]buildbin-out.txt22-Jan-2022 03:07 1.2K 
[   ]buildbin-summary.dcf22-Jan-2022 03:07 557  
[TXT]buildsrc-out.txt22-Jan-2022 03:07 835  
[   ]buildsrc-summary.dcf22-Jan-2022 03:07 440  
[TXT]checksrc-out.txt22-Jan-2022 03:07 4.4K 
[   ]checksrc-summary.dcf22-Jan-2022 03:07 461  
[TXT]install-out.txt22-Jan-2022 03:07 1.0K 
[   ]install-summary.dcf22-Jan-2022 03:07 278