Index of /checkResults/3.14/bioc-LATEST/AnVILBilling/raw-results

[ICO]NameLast modifiedSizeDescription

[DIR]Parent Directory  -  
[DIR]nebbiolo2/22-Jan-2022 03:04 -  
[DIR]tokay2/22-Jan-2022 03:05 -  
[   ]info.dcf22-Jan-2022 03:07 285  
[DIR]machv2/22-Jan-2022 03:07 -