Back to Multiple platform build/check report for BioC 3.14
[A]BCDEFGHIJKLMNOPQRSTUVWXYZ

This page was generated on 2021-11-29 15:05:46 -0500 (Mon, 29 Nov 2021).

BUILD BIN results for AnVILBilling on machv2

To the developers/maintainers of the AnVILBilling package:
- Please allow up to 24 hours (and sometimes 48 hours) for your latest push to git@git.bioconductor.org:packages/AnVILBilling.git to
reflect on this report. See How and When does the builder pull? When will my changes propagate? here for more information.
- Make sure to use the following settings in order to reproduce any error or warning you see on this page.

raw results

Package 71/2083HostnameOS / ArchINSTALLBUILDCHECKBUILD BIN
AnVILBilling 1.4.0  (landing page)
Vince Carey
Snapshot Date: 2021-11-28 04:15:06 -0500 (Sun, 28 Nov 2021)
git_url: https://git.bioconductor.org/packages/AnVILBilling
git_branch: RELEASE_3_14
git_last_commit: 54f05b3
git_last_commit_date: 2021-10-26 13:04:23 -0500 (Tue, 26 Oct 2021)
nebbiolo2Linux (Ubuntu 20.04.3 LTS) / x86_64  OK    OK    OK  UNNEEDED, same version is already published
tokay2Windows Server 2012 R2 Standard / x64  OK    OK    OK    OK  UNNEEDED, same version is already published
machv2macOS 10.14.6 Mojave / x86_64  OK    OK    OK    OK  UNNEEDED, same version is already published

Summary

Package: AnVILBilling
Version: 1.4.0
Command: rm -rf AnVILBilling.buildbin-libdir && mkdir AnVILBilling.buildbin-libdir && /Users/biocbuild/BBS/utils/build-universal.sh AnVILBilling_1.4.0.tar.gz /Library/Frameworks/R.framework/Resources/bin/R AnVILBilling.buildbin-libdir
StartedAt: 2021-11-28 23:04:33 -0500 (Sun, 28 Nov 2021)
EndedAt: 2021-11-28 23:05:46 -0500 (Sun, 28 Nov 2021)
EllapsedTime: 73.2 seconds
RetCode: 0
Status:   OK  
PackageFile: AnVILBilling_1.4.0.tgz
PackageFileSize: 682.5 KiB

Command output

##############################################################################
##############################################################################
###
### Running command:
###
###   rm -rf AnVILBilling.buildbin-libdir && mkdir AnVILBilling.buildbin-libdir && /Users/biocbuild/BBS/utils/build-universal.sh AnVILBilling_1.4.0.tar.gz /Library/Frameworks/R.framework/Resources/bin/R AnVILBilling.buildbin-libdir
###
##############################################################################
##############################################################################


>>>>>>> 
>>>>>>> INSTALLATION WITH 'R CMD INSTALL --preclean --no-multiarch --library=AnVILBilling.buildbin-libdir AnVILBilling_1.4.0.tar.gz'
>>>>>>> 

* installing *source* package ‘AnVILBilling’ ...
** using staged installation
** R
** data
*** moving datasets to lazyload DB
** inst
** byte-compile and prepare package for lazy loading
** help
*** installing help indices
** building package indices
** installing vignettes
** testing if installed package can be loaded from temporary location
** testing if installed package can be loaded from final location
** testing if installed package keeps a record of temporary installation path
* DONE (AnVILBilling)