Back to Multiple platform build/check report for BioC 3.14
[A]BCDEFGHIJKLMNOPQRSTUVWXYZ

This page was generated on 2021-10-18 12:03:58 -0400 (Mon, 18 Oct 2021).

BUILD BIN results for AnVIL on riesling1

To the developers/maintainers of the AnVIL package:
- Please allow up to 24 hours (and sometimes 48 hours) for your latest push to git@git.bioconductor.org:packages/AnVIL.git to
reflect on this report. See How and When does the builder pull? When will my changes propagate? here for more information.
- Make sure to use the following settings in order to reproduce any error or warning you see on this page.

raw results

Package 70/2060HostnameOS / ArchINSTALLBUILDCHECKBUILD BIN
AnVIL 1.5.5  (landing page)
Martin Morgan
Snapshot Date: 2021-10-17 14:50:03 -0400 (Sun, 17 Oct 2021)
git_url: https://git.bioconductor.org/packages/AnVIL
git_branch: master
git_last_commit: ce7bfd6
git_last_commit_date: 2021-10-09 11:11:43 -0400 (Sat, 09 Oct 2021)
nebbiolo2Linux (Ubuntu 20.04.2 LTS) / x86_64  OK    OK    OK  UNNEEDED, same version is already published
riesling1Windows Server 2019 Standard / x64  OK    OK    OK    OK  UNNEEDED, same version is already published
merida1macOS 10.14.6 Mojave / x86_64  OK    OK    OK    OK  UNNEEDED, same version is already published

Summary

Package: AnVIL
Version: 1.5.5
Command: rm -rf AnVIL.buildbin-libdir && mkdir AnVIL.buildbin-libdir && D:\biocbuild\bbs-3.14-bioc\R\bin\R.exe CMD INSTALL --merge-multiarch --build --library=AnVIL.buildbin-libdir AnVIL_1.5.5.tar.gz
StartedAt: 2021-10-18 04:13:56 -0400 (Mon, 18 Oct 2021)
EndedAt: 2021-10-18 04:17:56 -0400 (Mon, 18 Oct 2021)
EllapsedTime: 239.5 seconds
RetCode: 0
Status:   OK  
PackageFile: AnVIL_1.5.5.zip
PackageFileSize: 806.1 KiB

Command output

##############################################################################
##############################################################################
###
### Running command:
###
###   rm -rf AnVIL.buildbin-libdir && mkdir AnVIL.buildbin-libdir && D:\biocbuild\bbs-3.14-bioc\R\bin\R.exe CMD INSTALL --merge-multiarch --build --library=AnVIL.buildbin-libdir AnVIL_1.5.5.tar.gz
###
##############################################################################
##############################################################################



install for i386

* installing *source* package 'AnVIL' ...
** using staged installation
** R
** inst
** byte-compile and prepare package for lazy loading
** help
*** installing help indices
  converting help for package 'AnVIL'
    finding HTML links ... done
    Response                                html  
    Service                                 html  
    Services                                html  
    av                                      html  
    avnotebooks                             html  
    avworkflow                              html  
    avworkspace                             html  
    drs                                     html  
    gcloud                                  html  
    gsutil                                  html  
    install                                 html  
    localize                                html  
** building package indices
** installing vignettes
** testing if installed package can be loaded from temporary location
** testing if installed package can be loaded from final location
** testing if installed package keeps a record of temporary installation path

install for x64

* installing *source* package 'AnVIL' ...
** testing if installed package can be loaded
* MD5 sums
packaged installation of 'AnVIL' as AnVIL_1.5.5.zip
* DONE (AnVIL)