Back to Multiple platform build/check report for BioC 3.14
[A]BCDEFGHIJKLMNOPQRSTUVWXYZ

This page was generated on 2021-12-03 13:05:39 -0500 (Fri, 03 Dec 2021).

BUILD results for AnVIL on machv2

To the developers/maintainers of the AnVIL package:
- Please allow up to 24 hours (and sometimes 48 hours) for your latest push to git@git.bioconductor.org:packages/AnVIL.git to
reflect on this report. See How and When does the builder pull? When will my changes propagate? here for more information.
- Make sure to use the following settings in order to reproduce any error or warning you see on this page.

raw results

Package 70/2083HostnameOS / ArchINSTALLBUILDCHECKBUILD BIN
AnVIL 1.6.1  (landing page)
Martin Morgan
Snapshot Date: 2021-12-02 01:55:06 -0500 (Thu, 02 Dec 2021)
git_url: https://git.bioconductor.org/packages/AnVIL
git_branch: RELEASE_3_14
git_last_commit: c06a83d
git_last_commit_date: 2021-11-29 14:36:15 -0500 (Mon, 29 Nov 2021)
nebbiolo2Linux (Ubuntu 20.04.3 LTS) / x86_64  OK    OK    OK  UNNEEDED, same version is already published
tokay2Windows Server 2012 R2 Standard / x64  OK    OK    OK    OK  UNNEEDED, same version is already published
machv2macOS 10.14.6 Mojave / x86_64  OK    OK    OK    OK  UNNEEDED, same version is already published

Summary

Package: AnVIL
Version: 1.6.1
Command: /Library/Frameworks/R.framework/Resources/bin/R CMD build --keep-empty-dirs --no-resave-data AnVIL
StartedAt: 2021-12-02 05:39:39 -0500 (Thu, 02 Dec 2021)
EndedAt: 2021-12-02 05:39:58 -0500 (Thu, 02 Dec 2021)
EllapsedTime: 18.8 seconds
RetCode: 0
Status:   OK  
PackageFile: AnVIL_1.6.1.tar.gz
PackageFileSize: 847.4 KiB

Command output

##############################################################################
##############################################################################
###
### Running command:
###
###   /Library/Frameworks/R.framework/Resources/bin/R CMD build --keep-empty-dirs --no-resave-data AnVIL
###
##############################################################################
##############################################################################


* checking for file ‘AnVIL/DESCRIPTION’ ... OK
* preparing ‘AnVIL’:
* checking DESCRIPTION meta-information ... OK
* installing the package to build vignettes
* creating vignettes ... OK
* checking for LF line-endings in source and make files and shell scripts
* checking for empty or unneeded directories
* looking to see if a ‘data/datalist’ file should be added
* building ‘AnVIL_1.6.1.tar.gz’