Back to Multiple platform build/check report for BioC 3.14
[A]BCDEFGHIJKLMNOPQRSTUVWXYZ

This page was generated on 2021-10-20 12:04:04 -0400 (Wed, 20 Oct 2021).

All results for package AlpsNMR

To the developers/maintainers of the AlpsNMR package:
- Please allow up to 24 hours (and sometimes 48 hours) for your latest push to git@git.bioconductor.org:packages/AlpsNMR.git to
reflect on this report. See How and When does the builder pull? When will my changes propagate? here for more information.
- Make sure to use the following settings in order to reproduce any error or warning you see on this page.

raw results

Package 46/2072HostnameOS / ArchINSTALLBUILDCHECKBUILD BIN
AlpsNMR 3.3.4  (landing page)
Sergio Oller Moreno
Snapshot Date: 2021-10-19 14:50:04 -0400 (Tue, 19 Oct 2021)
git_url: https://git.bioconductor.org/packages/AlpsNMR
git_branch: master
git_last_commit: 37a58ed
git_last_commit_date: 2021-09-16 08:25:44 -0400 (Thu, 16 Sep 2021)
nebbiolo2Linux (Ubuntu 20.04.2 LTS) / x86_64  OK    OK    OK  UNNEEDED, same version is already published
riesling1Windows Server 2019 Standard / x64  OK    OK    OK    OK  UNNEEDED, same version is already published
merida1macOS 10.14.6 Mojave / x86_64  OK    OK    OK    OK  UNNEEDED, same version is already published