Back to Multiple platform build/check report for BioC 3.14
[A]BCDEFGHIJKLMNOPQRSTUVWXYZ

This page was generated on 2021-10-20 12:04:59 -0400 (Wed, 20 Oct 2021).

BUILD results for AlphaBeta on riesling1

To the developers/maintainers of the AlphaBeta package:
- Please allow up to 24 hours (and sometimes 48 hours) for your latest push to git@git.bioconductor.org:packages/AlphaBeta.git to
reflect on this report. See How and When does the builder pull? When will my changes propagate? here for more information.
- Make sure to use the following settings in order to reproduce any error or warning you see on this page.

raw results

Package 43/2072HostnameOS / ArchINSTALLBUILDCHECKBUILD BIN
AlphaBeta 1.7.1  (landing page)
Yadollah Shahryary Dizaji
Snapshot Date: 2021-10-19 14:50:04 -0400 (Tue, 19 Oct 2021)
git_url: https://git.bioconductor.org/packages/AlphaBeta
git_branch: master
git_last_commit: c1297f8
git_last_commit_date: 2021-07-28 06:45:00 -0400 (Wed, 28 Jul 2021)
nebbiolo2Linux (Ubuntu 20.04.2 LTS) / x86_64  OK    OK    OK  UNNEEDED, same version is already published
riesling1Windows Server 2019 Standard / x64  OK    OK    OK    OK  UNNEEDED, same version is already published
merida1macOS 10.14.6 Mojave / x86_64  OK    OK    OK    OK  UNNEEDED, same version is already published

Summary

Package: AlphaBeta
Version: 1.7.1
Command: chmod a+r AlphaBeta -R && D:\biocbuild\bbs-3.14-bioc\R\bin\R.exe CMD build --keep-empty-dirs --no-resave-data AlphaBeta
StartedAt: 2021-10-19 19:39:19 -0400 (Tue, 19 Oct 2021)
EndedAt: 2021-10-19 19:43:43 -0400 (Tue, 19 Oct 2021)
EllapsedTime: 264.5 seconds
RetCode: 0
Status:   OK  
PackageFile: AlphaBeta_1.7.1.tar.gz
PackageFileSize: 2.471 MiB

Command output

##############################################################################
##############################################################################
###
### Running command:
###
###   chmod a+r AlphaBeta -R && D:\biocbuild\bbs-3.14-bioc\R\bin\R.exe CMD build --keep-empty-dirs --no-resave-data AlphaBeta
###
##############################################################################
##############################################################################


* checking for file 'AlphaBeta/DESCRIPTION' ... OK
* preparing 'AlphaBeta':
* checking DESCRIPTION meta-information ... OK
* installing the package to build vignettes
* creating vignettes ... OK
* checking for LF line-endings in source and make files and shell scripts
* checking for empty or unneeded directories
Omitted 'LazyData' from DESCRIPTION
* building 'AlphaBeta_1.7.1.tar.gz'