Back to Multiple platform build/check report for BioC 3.14
[A]BCDEFGHIJKLMNOPQRSTUVWXYZ

This page was generated on 2021-10-23 14:06:18 -0400 (Sat, 23 Oct 2021).

BUILD BIN results for AlphaBeta on riesling1

To the developers/maintainers of the AlphaBeta package:
- Please allow up to 24 hours (and sometimes 48 hours) for your latest push to git@git.bioconductor.org:packages/AlphaBeta.git to
reflect on this report. See How and When does the builder pull? When will my changes propagate? here for more information.
- Make sure to use the following settings in order to reproduce any error or warning you see on this page.

raw results

Package 43/2083HostnameOS / ArchINSTALLBUILDCHECKBUILD BIN
AlphaBeta 1.7.1  (landing page)
Yadollah Shahryary Dizaji
Snapshot Date: 2021-10-22 14:50:11 -0400 (Fri, 22 Oct 2021)
git_url: https://git.bioconductor.org/packages/AlphaBeta
git_branch: master
git_last_commit: c1297f8
git_last_commit_date: 2021-07-28 06:45:00 -0400 (Wed, 28 Jul 2021)
nebbiolo2Linux (Ubuntu 20.04.2 LTS) / x86_64  OK    OK    OK  UNNEEDED, same version is already published
riesling1Windows Server 2019 Standard / x64  OK    OK    OK    OK  UNNEEDED, same version is already published
merida1macOS 10.14.6 Mojave / x86_64  OK    OK    OK    OK  UNNEEDED, same version is already published

Summary

Package: AlphaBeta
Version: 1.7.1
Command: rm -rf AlphaBeta.buildbin-libdir && mkdir AlphaBeta.buildbin-libdir && D:\biocbuild\bbs-3.14-bioc\R\bin\R.exe CMD INSTALL --merge-multiarch --build --library=AlphaBeta.buildbin-libdir AlphaBeta_1.7.1.tar.gz
StartedAt: 2021-10-23 09:34:19 -0400 (Sat, 23 Oct 2021)
EndedAt: 2021-10-23 09:37:59 -0400 (Sat, 23 Oct 2021)
EllapsedTime: 219.6 seconds
RetCode: 0
Status:   OK  
PackageFile: AlphaBeta_1.7.1.zip
PackageFileSize: 2.682 MiB

Command output

##############################################################################
##############################################################################
###
### Running command:
###
###   rm -rf AlphaBeta.buildbin-libdir && mkdir AlphaBeta.buildbin-libdir && D:\biocbuild\bbs-3.14-bioc\R\bin\R.exe CMD INSTALL --merge-multiarch --build --library=AlphaBeta.buildbin-libdir AlphaBeta_1.7.1.tar.gz
###
##############################################################################
##############################################################################



install for i386

* installing *source* package 'AlphaBeta' ...
** using staged installation
** R
** inst
** byte-compile and prepare package for lazy loading
** help
*** installing help indices
  converting help for package 'AlphaBeta'
    finding HTML links ... done
    ABneutral                               html  
    ABneutralSOMA                           html  
    ABnull                                  html  
    ABplot                                  html  
    ABselectMM                              html  
    ABselectMMSOMA                          html  
    ABselectUU                              html  
    ABselectUUSOMA                          html  
    BOOTmodel                               html  
    FtestRSS                                html  
    buildPedigree                           html  
    dMatrix                                 html  
    plotPedigree                            html  
    rc.meth.lvl                             html  
** building package indices
** installing vignettes
** testing if installed package can be loaded from temporary location
** testing if installed package can be loaded from final location
** testing if installed package keeps a record of temporary installation path

install for x64

* installing *source* package 'AlphaBeta' ...
** testing if installed package can be loaded
* MD5 sums
packaged installation of 'AlphaBeta' as AlphaBeta_1.7.1.zip
* DONE (AlphaBeta)