Back to Multiple platform build/check report for BioC 3.14
[A]BCDEFGHIJKLMNOPQRSTUVWXYZ

This page was generated on 2021-10-18 12:03:36 -0400 (Mon, 18 Oct 2021).

INSTALL results for AlphaBeta on nebbiolo2

To the developers/maintainers of the AlphaBeta package:
- Please allow up to 24 hours (and sometimes 48 hours) for your latest push to git@git.bioconductor.org:packages/AlphaBeta.git to
reflect on this report. See How and When does the builder pull? When will my changes propagate? here for more information.
- Make sure to use the following settings in order to reproduce any error or warning you see on this page.

raw results

Package 43/2060HostnameOS / ArchINSTALLBUILDCHECKBUILD BIN
AlphaBeta 1.7.1  (landing page)
Yadollah Shahryary Dizaji
Snapshot Date: 2021-10-17 14:50:03 -0400 (Sun, 17 Oct 2021)
git_url: https://git.bioconductor.org/packages/AlphaBeta
git_branch: master
git_last_commit: c1297f8
git_last_commit_date: 2021-07-28 06:45:00 -0400 (Wed, 28 Jul 2021)
nebbiolo2Linux (Ubuntu 20.04.2 LTS) / x86_64  OK    OK    OK  UNNEEDED, same version is already published
riesling1Windows Server 2019 Standard / x64  OK    OK    OK    OK  UNNEEDED, same version is already published
merida1macOS 10.14.6 Mojave / x86_64  OK    OK    OK    OK  UNNEEDED, same version is already published

Summary

Package: AlphaBeta
Version: 1.7.1
Command: /home/biocbuild/bbs-3.14-bioc/R/bin/R CMD INSTALL AlphaBeta
StartedAt: 2021-10-17 16:20:28 -0400 (Sun, 17 Oct 2021)
EndedAt: 2021-10-17 16:20:41 -0400 (Sun, 17 Oct 2021)
EllapsedTime: 13.0 seconds
RetCode: 0
Status:   OK  

Command output

##############################################################################
##############################################################################
###
### Running command:
###
###   /home/biocbuild/bbs-3.14-bioc/R/bin/R CMD INSTALL AlphaBeta
###
##############################################################################
##############################################################################


* installing to library ‘/home/biocbuild/bbs-3.14-bioc/R/library’
* installing *source* package ‘AlphaBeta’ ...
** using staged installation
** R
** inst
** byte-compile and prepare package for lazy loading
** help
*** installing help indices
** building package indices
** installing vignettes
** testing if installed package can be loaded from temporary location
** testing if installed package can be loaded from final location
** testing if installed package keeps a record of temporary installation path
* DONE (AlphaBeta)