Back to Multiple platform build/check report for BioC 3.14
[A]BCDEFGHIJKLMNOPQRSTUVWXYZ

This page was generated on 2021-10-23 14:06:51 -0400 (Sat, 23 Oct 2021).

BUILD results for AlphaBeta on merida1

To the developers/maintainers of the AlphaBeta package:
- Please allow up to 24 hours (and sometimes 48 hours) for your latest push to git@git.bioconductor.org:packages/AlphaBeta.git to
reflect on this report. See How and When does the builder pull? When will my changes propagate? here for more information.
- Make sure to use the following settings in order to reproduce any error or warning you see on this page.

raw results

Package 43/2083HostnameOS / ArchINSTALLBUILDCHECKBUILD BIN
AlphaBeta 1.7.1  (landing page)
Yadollah Shahryary Dizaji
Snapshot Date: 2021-10-22 14:50:11 -0400 (Fri, 22 Oct 2021)
git_url: https://git.bioconductor.org/packages/AlphaBeta
git_branch: master
git_last_commit: c1297f8
git_last_commit_date: 2021-07-28 06:45:00 -0400 (Wed, 28 Jul 2021)
nebbiolo2Linux (Ubuntu 20.04.2 LTS) / x86_64  OK    OK    OK  UNNEEDED, same version is already published
riesling1Windows Server 2019 Standard / x64  OK    OK    OK    OK  UNNEEDED, same version is already published
merida1macOS 10.14.6 Mojave / x86_64  OK    OK    OK    OK  UNNEEDED, same version is already published

Summary

Package: AlphaBeta
Version: 1.7.1
Command: /Library/Frameworks/R.framework/Resources/bin/R CMD build --keep-empty-dirs --no-resave-data AlphaBeta
StartedAt: 2021-10-22 18:25:53 -0400 (Fri, 22 Oct 2021)
EndedAt: 2021-10-22 18:31:49 -0400 (Fri, 22 Oct 2021)
EllapsedTime: 355.8 seconds
RetCode: 0
Status:   OK  
PackageFile: AlphaBeta_1.7.1.tar.gz
PackageFileSize: 2.466 MiB

Command output

##############################################################################
##############################################################################
###
### Running command:
###
###   /Library/Frameworks/R.framework/Resources/bin/R CMD build --keep-empty-dirs --no-resave-data AlphaBeta
###
##############################################################################
##############################################################################


* checking for file ‘AlphaBeta/DESCRIPTION’ ... OK
* preparing ‘AlphaBeta’:
* checking DESCRIPTION meta-information ... OK
* installing the package to build vignettes
* creating vignettes ... OK
* checking for LF line-endings in source and make files and shell scripts
* checking for empty or unneeded directories
Omitted ‘LazyData’ from DESCRIPTION
* building ‘AlphaBeta_1.7.1.tar.gz’