Back to Multiple platform build/check report for BioC 3.14
[A]BCDEFGHIJKLMNOPQRSTUVWXYZ

This page was generated on 2021-10-23 14:06:18 -0400 (Sat, 23 Oct 2021).

INSTALL results for AgiMicroRna on riesling1

To the developers/maintainers of the AgiMicroRna package:
- Please allow up to 24 hours (and sometimes 48 hours) for your latest push to git@git.bioconductor.org:packages/AgiMicroRna.git to
reflect on this report. See How and When does the builder pull? When will my changes propagate? here for more information.
- Make sure to use the following settings in order to reproduce any error or warning you see on this page.

raw results

Package 37/2083HostnameOS / ArchINSTALLBUILDCHECKBUILD BIN
AgiMicroRna 2.43.0  (landing page)
Pedro Lopez-Romero
Snapshot Date: 2021-10-22 14:50:11 -0400 (Fri, 22 Oct 2021)
git_url: https://git.bioconductor.org/packages/AgiMicroRna
git_branch: master
git_last_commit: b8c7241
git_last_commit_date: 2021-05-19 11:43:52 -0400 (Wed, 19 May 2021)
nebbiolo2Linux (Ubuntu 20.04.2 LTS) / x86_64  OK    OK    OK  UNNEEDED, same version is already published
riesling1Windows Server 2019 Standard / x64  OK    OK    OK    OK  UNNEEDED, same version is already published
merida1macOS 10.14.6 Mojave / x86_64  OK    OK    OK    OK  UNNEEDED, same version is already published

Summary

Package: AgiMicroRna
Version: 2.43.0
Command: C:\cygwin\bin\curl.exe -O http://155.52.207.166/BBS/3.14/bioc/src/contrib/AgiMicroRna_2.43.0.tar.gz && rm -rf AgiMicroRna.buildbin-libdir && mkdir AgiMicroRna.buildbin-libdir && D:\biocbuild\bbs-3.14-bioc\R\bin\R.exe CMD INSTALL --merge-multiarch --build --library=AgiMicroRna.buildbin-libdir AgiMicroRna_2.43.0.tar.gz && D:\biocbuild\bbs-3.14-bioc\R\bin\R.exe CMD INSTALL AgiMicroRna_2.43.0.zip && rm AgiMicroRna_2.43.0.tar.gz AgiMicroRna_2.43.0.zip
StartedAt: 2021-10-22 19:10:58 -0400 (Fri, 22 Oct 2021)
EndedAt: 2021-10-22 19:13:48 -0400 (Fri, 22 Oct 2021)
EllapsedTime: 169.9 seconds
RetCode: 0
Status:   OK  

Command output

##############################################################################
##############################################################################
###
### Running command:
###
###   C:\cygwin\bin\curl.exe -O http://155.52.207.166/BBS/3.14/bioc/src/contrib/AgiMicroRna_2.43.0.tar.gz && rm -rf AgiMicroRna.buildbin-libdir && mkdir AgiMicroRna.buildbin-libdir && D:\biocbuild\bbs-3.14-bioc\R\bin\R.exe CMD INSTALL --merge-multiarch --build --library=AgiMicroRna.buildbin-libdir AgiMicroRna_2.43.0.tar.gz && D:\biocbuild\bbs-3.14-bioc\R\bin\R.exe CMD INSTALL AgiMicroRna_2.43.0.zip && rm AgiMicroRna_2.43.0.tar.gz AgiMicroRna_2.43.0.zip
###
##############################################################################
##############################################################################


  % Total    % Received % Xferd  Average Speed   Time    Time     Time  Current
                                 Dload  Upload   Total   Spent    Left  Speed

  0     0    0     0    0     0      0      0 --:--:-- --:--:-- --:--:--     0
100 1338k  100 1338k    0     0  3531k      0 --:--:-- --:--:-- --:--:-- 3531k

install for i386

* installing *source* package 'AgiMicroRna' ...
** using staged installation
** R
** data
** byte-compile and prepare package for lazy loading
** help
*** installing help indices
  converting help for package 'AgiMicroRna'
    finding HTML links ... done
    HeatMapMicroRna                         html  
    PCAplotMicroRna                         html  
    RleMicroRna                             html  
    basicLimma                              html  
    boxplotMicroRna                         html  
    cvArray                                 html  
    dd.micro                                html  
    ddPROC                                  html  
    dim.uRNAList                            html  
    dimnames.uRNAList                       html  
    esetMicroRna                            html  
    filterMicroRna                          html  
    getDecideTests                          html  
    hierclusMicroRna                        html  
    mvaBASIC                                html  
    mvaMicroRna                             html  
    plotDensityMicroRna                     html  
    pvalHistogram                           html  
    qcPlots                                 html  
    readMicroRnaAFE                         html  
    readTargets                             html  
    rmaMicroRna                             html  
    significantMicroRna                     html  
    summary.uRNAList                        html  
    targets.micro                           html  
    tgsMicroRna                             html  
    tgsNormalization                        html  
    uRNAList                                html  
    writeEset                               html  
** building package indices
** installing vignettes
** testing if installed package can be loaded from temporary location
** testing if installed package can be loaded from final location
** testing if installed package keeps a record of temporary installation path

install for x64

* installing *source* package 'AgiMicroRna' ...
** testing if installed package can be loaded
* MD5 sums
packaged installation of 'AgiMicroRna' as AgiMicroRna_2.43.0.zip
* DONE (AgiMicroRna)
* installing to library 'D:/biocbuild/bbs-3.14-bioc/R/library'
package 'AgiMicroRna' successfully unpacked and MD5 sums checked