Index of /checkResults/3.14/bioc-LATEST/AgiMicroRna/raw-results/tokay2

[ICO]NameLast modifiedSizeDescription

[DIR]Parent Directory  -  
[TXT]buildbin-out.txt22-Jan-2022 03:05 2.8K 
[   ]buildbin-summary.dcf22-Jan-2022 03:05 564  
[TXT]buildsrc-out.txt22-Jan-2022 03:05 925  
[   ]buildsrc-summary.dcf22-Jan-2022 03:05 475  
[TXT]checksrc-out.txt22-Jan-2022 03:05 13K 
[   ]checksrc-summary.dcf22-Jan-2022 03:05 478  
[TXT]install-out.txt22-Jan-2022 03:05 3.5K 
[   ]install-summary.dcf22-Jan-2022 03:05 677