Index of /checkResults/3.14/bioc-LATEST/AgiMicroRna/raw-results/nebbiolo2

[ICO]NameLast modifiedSizeDescription

[DIR]Parent Directory  -  
[TXT]buildsrc-out.txt15-Jan-2022 03:04 885  
[   ]buildsrc-summary.dcf15-Jan-2022 03:04 430  
[TXT]checksrc-out.txt15-Jan-2022 03:04 12K 
[   ]checksrc-summary.dcf15-Jan-2022 03:04 440  
[TXT]install-out.txt15-Jan-2022 03:04 959  
[   ]install-summary.dcf15-Jan-2022 03:04 267