Back to Multiple platform build/check report for BioC 3.14
[A]BCDEFGHIJKLMNOPQRSTUVWXYZ

This page was generated on 2021-10-20 12:05:32 -0400 (Wed, 20 Oct 2021).

BUILD results for AgiMicroRna on merida1

To the developers/maintainers of the AgiMicroRna package:
- Please allow up to 24 hours (and sometimes 48 hours) for your latest push to git@git.bioconductor.org:packages/AgiMicroRna.git to
reflect on this report. See How and When does the builder pull? When will my changes propagate? here for more information.
- Make sure to use the following settings in order to reproduce any error or warning you see on this page.

raw results

Package 37/2072HostnameOS / ArchINSTALLBUILDCHECKBUILD BIN
AgiMicroRna 2.43.0  (landing page)
Pedro Lopez-Romero
Snapshot Date: 2021-10-19 14:50:04 -0400 (Tue, 19 Oct 2021)
git_url: https://git.bioconductor.org/packages/AgiMicroRna
git_branch: master
git_last_commit: b8c7241
git_last_commit_date: 2021-05-19 11:43:52 -0400 (Wed, 19 May 2021)
nebbiolo2Linux (Ubuntu 20.04.2 LTS) / x86_64  OK    OK    OK  UNNEEDED, same version is already published
riesling1Windows Server 2019 Standard / x64  OK    OK    OK    OK  UNNEEDED, same version is already published
merida1macOS 10.14.6 Mojave / x86_64  OK    OK    OK    OK  UNNEEDED, same version is already published

Summary

Package: AgiMicroRna
Version: 2.43.0
Command: /Library/Frameworks/R.framework/Resources/bin/R CMD build --keep-empty-dirs --no-resave-data AgiMicroRna
StartedAt: 2021-10-19 18:25:38 -0400 (Tue, 19 Oct 2021)
EndedAt: 2021-10-19 18:27:52 -0400 (Tue, 19 Oct 2021)
EllapsedTime: 134.3 seconds
RetCode: 0
Status:   OK  
PackageFile: AgiMicroRna_2.43.0.tar.gz
PackageFileSize: 3.008 MiB

Command output

##############################################################################
##############################################################################
###
### Running command:
###
###   /Library/Frameworks/R.framework/Resources/bin/R CMD build --keep-empty-dirs --no-resave-data AgiMicroRna
###
##############################################################################
##############################################################################


* checking for file ‘AgiMicroRna/DESCRIPTION’ ... OK
* preparing ‘AgiMicroRna’:
* checking DESCRIPTION meta-information ... OK
* installing the package to build vignettes
* creating vignettes ... OK
* checking for LF line-endings in source and make files and shell scripts
* checking for empty or unneeded directories
* looking to see if a ‘data/datalist’ file should be added
* building ‘AgiMicroRna_2.43.0.tar.gz’