Back to Multiple platform build/check report for BioC 3.14
[A]BCDEFGHIJKLMNOPQRSTUVWXYZ

This page was generated on 2021-12-06 13:05:49 -0500 (Mon, 06 Dec 2021).

INSTALL results for AgiMicroRna on machv2

To the developers/maintainers of the AgiMicroRna package:
- Please allow up to 24 hours (and sometimes 48 hours) for your latest push to git@git.bioconductor.org:packages/AgiMicroRna.git to
reflect on this report. See How and When does the builder pull? When will my changes propagate? here for more information.
- Make sure to use the following settings in order to reproduce any error or warning you see on this page.

raw results

Package 37/2083HostnameOS / ArchINSTALLBUILDCHECKBUILD BIN
AgiMicroRna 2.44.0  (landing page)
Pedro Lopez-Romero
Snapshot Date: 2021-12-05 01:55:05 -0500 (Sun, 05 Dec 2021)
git_url: https://git.bioconductor.org/packages/AgiMicroRna
git_branch: RELEASE_3_14
git_last_commit: 8b308ba
git_last_commit_date: 2021-10-26 11:54:33 -0500 (Tue, 26 Oct 2021)
nebbiolo2Linux (Ubuntu 20.04.3 LTS) / x86_64  OK    OK    OK  UNNEEDED, same version is already published
tokay2Windows Server 2012 R2 Standard / x64  OK    OK    OK    OK  UNNEEDED, same version is already published
machv2macOS 10.14.6 Mojave / x86_64  OK    OK    OK    OK  UNNEEDED, same version is already published

Summary

Package: AgiMicroRna
Version: 2.44.0
Command: /Library/Frameworks/R.framework/Resources/bin/R CMD INSTALL AgiMicroRna
StartedAt: 2021-12-05 05:23:57 -0500 (Sun, 05 Dec 2021)
EndedAt: 2021-12-05 05:25:35 -0500 (Sun, 05 Dec 2021)
EllapsedTime: 98.3 seconds
RetCode: 0
Status:   OK  

Command output

##############################################################################
##############################################################################
###
### Running command:
###
###   /Library/Frameworks/R.framework/Resources/bin/R CMD INSTALL AgiMicroRna
###
##############################################################################
##############################################################################


* installing to library ‘/Library/Frameworks/R.framework/Versions/4.1/Resources/library’
* installing *source* package ‘AgiMicroRna’ ...
** using staged installation
** R
** data
** byte-compile and prepare package for lazy loading
** help
*** installing help indices
** building package indices
** installing vignettes
** testing if installed package can be loaded from temporary location
** testing if installed package can be loaded from final location
** testing if installed package keeps a record of temporary installation path
* DONE (AgiMicroRna)