Back to Multiple platform build/check report for BioC 3.14
[A]BCDEFGHIJKLMNOPQRSTUVWXYZ

This page was generated on 2022-01-17 13:05:52 -0500 (Mon, 17 Jan 2022).

HostnameOSArch (*)R versionInstalled pkgs
nebbiolo2Linux (Ubuntu 20.04.4 LTS)x86_644.1.2 (2021-11-01) -- "Bird Hippie" 4328
tokay2Windows Server 2012 R2 Standardx644.1.2 (2021-11-01) -- "Bird Hippie" 4077
machv2macOS 10.14.6 Mojavex86_644.1.2 (2021-11-01) -- "Bird Hippie" 4138
Click on any hostname to see more info about the system (e.g. compilers)      (*) as reported by 'uname -p', except on Windows and Mac OS X

CHECK results for AffyRNADegradation on tokay2


To the developers/maintainers of the AffyRNADegradation package:
- Please allow up to 24 hours (and sometimes 48 hours) for your latest push to git@git.bioconductor.org:packages/AffyRNADegradation.git to
reflect on this report. See How and When does the builder pull? When will my changes propagate? here for more information.
- Make sure to use the following settings in order to reproduce any error or warning you see on this page.

raw results

Package 33/2083HostnameOS / ArchINSTALLBUILDCHECKBUILD BIN
AffyRNADegradation 1.40.0  (landing page)
Mario Fasold
Snapshot Date: 2022-01-16 01:55:05 -0500 (Sun, 16 Jan 2022)
git_url: https://git.bioconductor.org/packages/AffyRNADegradation
git_branch: RELEASE_3_14
git_last_commit: 8539a91
git_last_commit_date: 2021-10-26 12:01:34 -0500 (Tue, 26 Oct 2021)
nebbiolo2Linux (Ubuntu 20.04.4 LTS) / x86_64  OK    OK    OK  UNNEEDED, same version is already published
tokay2Windows Server 2012 R2 Standard / x64  OK    OK    OK    OK  UNNEEDED, same version is already published
machv2macOS 10.14.6 Mojave / x86_64  OK    OK    OK    OK  UNNEEDED, same version is already published

Summary

Package: AffyRNADegradation
Version: 1.40.0
Command: C:\Users\biocbuild\bbs-3.14-bioc\R\bin\R.exe CMD check --force-multiarch --install=check:AffyRNADegradation.install-out.txt --library=C:\Users\biocbuild\bbs-3.14-bioc\R\library --no-vignettes --timings AffyRNADegradation_1.40.0.tar.gz
StartedAt: 2022-01-16 16:37:46 -0500 (Sun, 16 Jan 2022)
EndedAt: 2022-01-16 16:40:30 -0500 (Sun, 16 Jan 2022)
EllapsedTime: 163.5 seconds
RetCode: 0
Status:   OK  
CheckDir: AffyRNADegradation.Rcheck
Warnings: 0

Command output

##############################################################################
##############################################################################
###
### Running command:
###
###   C:\Users\biocbuild\bbs-3.14-bioc\R\bin\R.exe CMD check --force-multiarch --install=check:AffyRNADegradation.install-out.txt --library=C:\Users\biocbuild\bbs-3.14-bioc\R\library --no-vignettes --timings AffyRNADegradation_1.40.0.tar.gz
###
##############################################################################
##############################################################################


* using log directory 'C:/Users/biocbuild/bbs-3.14-bioc/meat/AffyRNADegradation.Rcheck'
* using R version 4.1.2 (2021-11-01)
* using platform: x86_64-w64-mingw32 (64-bit)
* using session charset: ISO8859-1
* using option '--no-vignettes'
* checking for file 'AffyRNADegradation/DESCRIPTION' ... OK
* checking extension type ... Package
* this is package 'AffyRNADegradation' version '1.40.0'
* checking package namespace information ... OK
* checking package dependencies ... OK
* checking if this is a source package ... OK
* checking if there is a namespace ... OK
* checking for hidden files and directories ... OK
* checking for portable file names ... OK
* checking whether package 'AffyRNADegradation' can be installed ... OK
* checking installed package size ... OK
* checking package directory ... OK
* checking 'build' directory ... OK
* checking DESCRIPTION meta-information ... OK
* checking top-level files ... OK
* checking for left-over files ... OK
* checking index information ... OK
* checking package subdirectories ... OK
* checking R files for non-ASCII characters ... OK
* checking R files for syntax errors ... OK
* loading checks for arch 'i386'
** checking whether the package can be loaded ... OK
** checking whether the package can be loaded with stated dependencies ... OK
** checking whether the package can be unloaded cleanly ... OK
** checking whether the namespace can be loaded with stated dependencies ... OK
** checking whether the namespace can be unloaded cleanly ... OK
* loading checks for arch 'x64'
** checking whether the package can be loaded ... OK
** checking whether the package can be loaded with stated dependencies ... OK
** checking whether the package can be unloaded cleanly ... OK
** checking whether the namespace can be loaded with stated dependencies ... OK
** checking whether the namespace can be unloaded cleanly ... OK
* checking dependencies in R code ... NOTE
Package in Depends field not imported from: 'methods'
  These packages need to be imported from (in the NAMESPACE file)
  for when this namespace is loaded but not attached.
* checking S3 generic/method consistency ... OK
* checking replacement functions ... OK
* checking foreign function calls ... OK
* checking R code for possible problems ... NOTE
ComputeTongs: no visible global function definition for 'filter'
ComputeTongs: no visible global function definition for 'na.omit'
EstimateHookParams: no visible global function definition for 'loess'
EstimateHookParams: no visible global function definition for
  'quantile'
GetTongs: no visible global function definition for 'ave'
PlotDegradationHooks: no visible global function definition for
  'rainbow'
PlotDegradationHooks: no visible global function definition for 'lines'
PlotDegradationHooks: no visible global function definition for
  'legend'
PlotDx: no visible global function definition for 'grid'
PlotDx: no visible global function definition for 'points'
PlotDx: no visible global function definition for 'lines'
PlotTongs: no visible global function definition for 'grid'
PlotTongs: no visible global function definition for 'lines'
PlotTongs: no visible global function definition for 'legend'
RNADegradation: no visible global function definition for 'ave'
RNADegradation: no visible global function definition for 'loess'
RNADegradation: no visible global function definition for 'approx'
RNADegradation: no visible global function definition for 'new'
TryToFitDecayFunction: no visible global function definition for 'nls'
TryToFitDecayFunction: no visible global function definition for 'coef'
getProbeInfo.index: no visible global function definition for 'ave'
Undefined global functions or variables:
  approx ave coef filter grid legend lines loess na.omit new nls points
  quantile rainbow
Consider adding
  importFrom("grDevices", "rainbow")
  importFrom("graphics", "grid", "legend", "lines", "points")
  importFrom("methods", "new")
  importFrom("stats", "approx", "ave", "coef", "filter", "loess",
             "na.omit", "nls", "quantile")
to your NAMESPACE file (and ensure that your DESCRIPTION Imports field
contains 'methods').
* checking Rd files ... OK
* checking Rd metadata ... OK
* checking Rd cross-references ... OK
* checking for missing documentation entries ... OK
* checking for code/documentation mismatches ... OK
* checking Rd \usage sections ... OK
* checking Rd contents ... OK
* checking for unstated dependencies in examples ... OK
* checking files in 'vignettes' ... OK
* checking examples ...
** running examples for arch 'i386' ... OK
Examples with CPU (user + system) or elapsed time > 5s
                            user system elapsed
AffyDegradationBatch-class 17.62   0.46   20.20
AffyRNADegradation         13.18   0.06   13.25
AffyRNADegradation-package 12.66   0.22   12.88
GetTongs                    6.74   0.12    6.86
** running examples for arch 'x64' ... OK
Examples with CPU (user + system) or elapsed time > 5s
                            user system elapsed
AffyDegradationBatch-class 17.75   0.38   18.13
AffyRNADegradation-package 13.53   0.14   13.67
AffyRNADegradation         13.60   0.07   13.67
GetTongs                    6.90   0.13    7.03
* checking for unstated dependencies in vignettes ... OK
* checking package vignettes in 'inst/doc' ... OK
* checking running R code from vignettes ... SKIPPED
* checking re-building of vignette outputs ... SKIPPED
* checking PDF version of manual ... OK
* DONE

Status: 2 NOTEs
See
  'C:/Users/biocbuild/bbs-3.14-bioc/meat/AffyRNADegradation.Rcheck/00check.log'
for details.



Installation output

AffyRNADegradation.Rcheck/00install.out

##############################################################################
##############################################################################
###
### Running command:
###
###   C:\cygwin\bin\curl.exe -O http://155.52.207.166/BBS/3.14/bioc/src/contrib/AffyRNADegradation_1.40.0.tar.gz && rm -rf AffyRNADegradation.buildbin-libdir && mkdir AffyRNADegradation.buildbin-libdir && C:\Users\biocbuild\bbs-3.14-bioc\R\bin\R.exe CMD INSTALL --merge-multiarch --build --library=AffyRNADegradation.buildbin-libdir AffyRNADegradation_1.40.0.tar.gz && C:\Users\biocbuild\bbs-3.14-bioc\R\bin\R.exe CMD INSTALL AffyRNADegradation_1.40.0.zip && rm AffyRNADegradation_1.40.0.tar.gz AffyRNADegradation_1.40.0.zip
###
##############################################################################
##############################################################################


  % Total    % Received % Xferd  Average Speed   Time    Time     Time  Current
                                 Dload  Upload   Total   Spent    Left  Speed

  0     0    0     0    0     0      0      0 --:--:-- --:--:-- --:--:--     0
100 11952  100 11952    0     0   204k      0 --:--:-- --:--:-- --:--:--  208k

install for i386

* installing *source* package 'AffyRNADegradation' ...
** using staged installation
** R
** inst
** byte-compile and prepare package for lazy loading
** help
*** installing help indices
  converting help for package 'AffyRNADegradation'
    finding HTML links ... done
    AffyDegradationBatch-class              html  
    AffyRNADegradation-package              html  
    AffyRNADegradation                      html  
    GetTongs                                html  
** building package indices
** installing vignettes
** testing if installed package can be loaded from temporary location
** testing if installed package can be loaded from final location
** testing if installed package keeps a record of temporary installation path

install for x64

* installing *source* package 'AffyRNADegradation' ...
** testing if installed package can be loaded
* MD5 sums
packaged installation of 'AffyRNADegradation' as AffyRNADegradation_1.40.0.zip
* DONE (AffyRNADegradation)
* installing to library 'C:/Users/biocbuild/bbs-3.14-bioc/R/library'
package 'AffyRNADegradation' successfully unpacked and MD5 sums checked

Tests output


Example timings

AffyRNADegradation.Rcheck/examples_i386/AffyRNADegradation-Ex.timings

nameusersystemelapsed
AffyDegradationBatch-class17.62 0.4620.20
AffyRNADegradation-package12.66 0.2212.88
AffyRNADegradation13.18 0.0613.25
GetTongs6.740.126.86

AffyRNADegradation.Rcheck/examples_x64/AffyRNADegradation-Ex.timings

nameusersystemelapsed
AffyDegradationBatch-class17.75 0.3818.13
AffyRNADegradation-package13.53 0.1413.67
AffyRNADegradation13.60 0.0713.67
GetTongs6.900.137.03