Back to Multiple platform build/check report for BioC 3.14
[A]BCDEFGHIJKLMNOPQRSTUVWXYZ

This page was generated on 2021-10-22 12:04:17 -0400 (Fri, 22 Oct 2021).

CHECK results for AffyRNADegradation on riesling1

To the developers/maintainers of the AffyRNADegradation package:
- Please allow up to 24 hours (and sometimes 48 hours) for your latest push to git@git.bioconductor.org:packages/AffyRNADegradation.git to
reflect on this report. See How and When does the builder pull? When will my changes propagate? here for more information.
- Make sure to use the following settings in order to reproduce any error or warning you see on this page.

raw results

Package 33/2075HostnameOS / ArchINSTALLBUILDCHECKBUILD BIN
AffyRNADegradation 1.39.0  (landing page)
Mario Fasold
Snapshot Date: 2021-10-21 14:50:08 -0400 (Thu, 21 Oct 2021)
git_url: https://git.bioconductor.org/packages/AffyRNADegradation
git_branch: master
git_last_commit: e8a0b74
git_last_commit_date: 2021-05-19 11:51:02 -0400 (Wed, 19 May 2021)
nebbiolo2Linux (Ubuntu 20.04.2 LTS) / x86_64  OK    OK    OK  UNNEEDED, same version is already published
riesling1Windows Server 2019 Standard / x64  OK    OK    OK    OK  UNNEEDED, same version is already published
merida1macOS 10.14.6 Mojave / x86_64  OK    OK    OK    OK  UNNEEDED, same version is already published

Summary

Package: AffyRNADegradation
Version: 1.39.0
Command: D:\biocbuild\bbs-3.14-bioc\R\bin\R.exe CMD check --force-multiarch --install=check:AffyRNADegradation.install-out.txt --library=D:\biocbuild\bbs-3.14-bioc\R\library --no-vignettes --timings AffyRNADegradation_1.39.0.tar.gz
StartedAt: 2021-10-21 23:53:32 -0400 (Thu, 21 Oct 2021)
EndedAt: 2021-10-21 23:56:27 -0400 (Thu, 21 Oct 2021)
EllapsedTime: 175.4 seconds
RetCode: 0
Status:   OK  
CheckDir: AffyRNADegradation.Rcheck
Warnings: 0

Command output

##############################################################################
##############################################################################
###
### Running command:
###
###   D:\biocbuild\bbs-3.14-bioc\R\bin\R.exe CMD check --force-multiarch --install=check:AffyRNADegradation.install-out.txt --library=D:\biocbuild\bbs-3.14-bioc\R\library --no-vignettes --timings AffyRNADegradation_1.39.0.tar.gz
###
##############################################################################
##############################################################################


* using log directory 'D:/biocbuild/bbs-3.14-bioc/meat/AffyRNADegradation.Rcheck'
* using R version 4.1.1 (2021-08-10)
* using platform: x86_64-w64-mingw32 (64-bit)
* using session charset: ISO8859-1
* using option '--no-vignettes'
* checking for file 'AffyRNADegradation/DESCRIPTION' ... OK
* checking extension type ... Package
* this is package 'AffyRNADegradation' version '1.39.0'
* checking package namespace information ... OK
* checking package dependencies ... OK
* checking if this is a source package ... OK
* checking if there is a namespace ... OK
* checking for hidden files and directories ... OK
* checking for portable file names ... OK
* checking whether package 'AffyRNADegradation' can be installed ... OK
* checking installed package size ... OK
* checking package directory ... OK
* checking 'build' directory ... OK
* checking DESCRIPTION meta-information ... OK
* checking top-level files ... OK
* checking for left-over files ... OK
* checking index information ... OK
* checking package subdirectories ... OK
* checking R files for non-ASCII characters ... OK
* checking R files for syntax errors ... OK
* loading checks for arch 'i386'
** checking whether the package can be loaded ... OK
** checking whether the package can be loaded with stated dependencies ... OK
** checking whether the package can be unloaded cleanly ... OK
** checking whether the namespace can be loaded with stated dependencies ... OK
** checking whether the namespace can be unloaded cleanly ... OK
* loading checks for arch 'x64'
** checking whether the package can be loaded ... OK
** checking whether the package can be loaded with stated dependencies ... OK
** checking whether the package can be unloaded cleanly ... OK
** checking whether the namespace can be loaded with stated dependencies ... OK
** checking whether the namespace can be unloaded cleanly ... OK
* checking dependencies in R code ... NOTE
Package in Depends field not imported from: 'methods'
  These packages need to be imported from (in the NAMESPACE file)
  for when this namespace is loaded but not attached.
* checking S3 generic/method consistency ... OK
* checking replacement functions ... OK
* checking foreign function calls ... OK
* checking R code for possible problems ... NOTE
ComputeTongs: no visible global function definition for 'filter'
ComputeTongs: no visible global function definition for 'na.omit'
EstimateHookParams: no visible global function definition for 'loess'
EstimateHookParams: no visible global function definition for
  'quantile'
GetTongs: no visible global function definition for 'ave'
PlotDegradationHooks: no visible global function definition for
  'rainbow'
PlotDegradationHooks: no visible global function definition for 'lines'
PlotDegradationHooks: no visible global function definition for
  'legend'
PlotDx: no visible global function definition for 'grid'
PlotDx: no visible global function definition for 'points'
PlotDx: no visible global function definition for 'lines'
PlotTongs: no visible global function definition for 'grid'
PlotTongs: no visible global function definition for 'lines'
PlotTongs: no visible global function definition for 'legend'
RNADegradation: no visible global function definition for 'ave'
RNADegradation: no visible global function definition for 'loess'
RNADegradation: no visible global function definition for 'approx'
RNADegradation: no visible global function definition for 'new'
TryToFitDecayFunction: no visible global function definition for 'nls'
TryToFitDecayFunction: no visible global function definition for 'coef'
getProbeInfo.index: no visible global function definition for 'ave'
Undefined global functions or variables:
  approx ave coef filter grid legend lines loess na.omit new nls points
  quantile rainbow
Consider adding
  importFrom("grDevices", "rainbow")
  importFrom("graphics", "grid", "legend", "lines", "points")
  importFrom("methods", "new")
  importFrom("stats", "approx", "ave", "coef", "filter", "loess",
             "na.omit", "nls", "quantile")
to your NAMESPACE file (and ensure that your DESCRIPTION Imports field
contains 'methods').
* checking Rd files ... OK
* checking Rd metadata ... OK
* checking Rd cross-references ... OK
* checking for missing documentation entries ... OK
* checking for code/documentation mismatches ... OK
* checking Rd \usage sections ... OK
* checking Rd contents ... OK
* checking for unstated dependencies in examples ... OK
* checking files in 'vignettes' ... OK
* checking examples ...
** running examples for arch 'i386' ... OK
Examples with CPU (user + system) or elapsed time > 5s
                            user system elapsed
AffyDegradationBatch-class 14.44   0.25   14.69
AffyRNADegradation         11.59   0.04   11.62
AffyRNADegradation-package 10.99   0.11   11.09
GetTongs                    6.30   0.09    6.40
** running examples for arch 'x64' ... OK
Examples with CPU (user + system) or elapsed time > 5s
                            user system elapsed
AffyDegradationBatch-class 13.60   0.39   13.98
AffyRNADegradation-package 10.23   0.09   10.33
AffyRNADegradation         10.20   0.06   10.27
GetTongs                    5.16   0.06    5.21
* checking for unstated dependencies in vignettes ... OK
* checking package vignettes in 'inst/doc' ... OK
* checking running R code from vignettes ... SKIPPED
* checking re-building of vignette outputs ... SKIPPED
* checking PDF version of manual ... OK
* DONE

Status: 2 NOTEs
See
  'D:/biocbuild/bbs-3.14-bioc/meat/AffyRNADegradation.Rcheck/00check.log'
for details.



Installation output

AffyRNADegradation.Rcheck/00install.out

##############################################################################
##############################################################################
###
### Running command:
###
###   C:\cygwin\bin\curl.exe -O http://155.52.207.166/BBS/3.14/bioc/src/contrib/AffyRNADegradation_1.39.0.tar.gz && rm -rf AffyRNADegradation.buildbin-libdir && mkdir AffyRNADegradation.buildbin-libdir && D:\biocbuild\bbs-3.14-bioc\R\bin\R.exe CMD INSTALL --merge-multiarch --build --library=AffyRNADegradation.buildbin-libdir AffyRNADegradation_1.39.0.tar.gz && D:\biocbuild\bbs-3.14-bioc\R\bin\R.exe CMD INSTALL AffyRNADegradation_1.39.0.zip && rm AffyRNADegradation_1.39.0.tar.gz AffyRNADegradation_1.39.0.zip
###
##############################################################################
##############################################################################


  % Total    % Received % Xferd  Average Speed   Time    Time     Time  Current
                                 Dload  Upload   Total   Spent    Left  Speed

  0     0    0     0    0     0      0      0 --:--:-- --:--:-- --:--:--     0
100 11951  100 11951    0     0   138k      0 --:--:-- --:--:-- --:--:--  138k

install for i386

* installing *source* package 'AffyRNADegradation' ...
** using staged installation
** R
** inst
** byte-compile and prepare package for lazy loading
** help
*** installing help indices
  converting help for package 'AffyRNADegradation'
    finding HTML links ... done
    AffyDegradationBatch-class              html  
    AffyRNADegradation-package              html  
    AffyRNADegradation                      html  
    GetTongs                                html  
** building package indices
** installing vignettes
** testing if installed package can be loaded from temporary location
** testing if installed package can be loaded from final location
** testing if installed package keeps a record of temporary installation path

install for x64

* installing *source* package 'AffyRNADegradation' ...
** testing if installed package can be loaded
* MD5 sums
packaged installation of 'AffyRNADegradation' as AffyRNADegradation_1.39.0.zip
* DONE (AffyRNADegradation)
* installing to library 'D:/biocbuild/bbs-3.14-bioc/R/library'
package 'AffyRNADegradation' successfully unpacked and MD5 sums checked

Tests output


Example timings

AffyRNADegradation.Rcheck/examples_i386/AffyRNADegradation-Ex.timings

nameusersystemelapsed
AffyDegradationBatch-class14.44 0.2514.69
AffyRNADegradation-package10.99 0.1111.09
AffyRNADegradation11.59 0.0411.62
GetTongs6.300.096.40

AffyRNADegradation.Rcheck/examples_x64/AffyRNADegradation-Ex.timings

nameusersystemelapsed
AffyDegradationBatch-class13.60 0.3913.98
AffyRNADegradation-package10.23 0.0910.33
AffyRNADegradation10.20 0.0610.27
GetTongs5.160.065.21