Back to Multiple platform build/check report for BioC 3.14
[A]BCDEFGHIJKLMNOPQRSTUVWXYZ

This page was generated on 2021-10-18 12:03:35 -0400 (Mon, 18 Oct 2021).

CHECK results for AffyRNADegradation on nebbiolo2

To the developers/maintainers of the AffyRNADegradation package:
- Please allow up to 24 hours (and sometimes 48 hours) for your latest push to git@git.bioconductor.org:packages/AffyRNADegradation.git to
reflect on this report. See How and When does the builder pull? When will my changes propagate? here for more information.
- Make sure to use the following settings in order to reproduce any error or warning you see on this page.

raw results

Package 33/2060HostnameOS / ArchINSTALLBUILDCHECKBUILD BIN
AffyRNADegradation 1.39.0  (landing page)
Mario Fasold
Snapshot Date: 2021-10-17 14:50:03 -0400 (Sun, 17 Oct 2021)
git_url: https://git.bioconductor.org/packages/AffyRNADegradation
git_branch: master
git_last_commit: e8a0b74
git_last_commit_date: 2021-05-19 11:51:02 -0400 (Wed, 19 May 2021)
nebbiolo2Linux (Ubuntu 20.04.2 LTS) / x86_64  OK    OK    OK  UNNEEDED, same version is already published
riesling1Windows Server 2019 Standard / x64  OK    OK    OK    OK  UNNEEDED, same version is already published
merida1macOS 10.14.6 Mojave / x86_64  OK    OK    OK    OK  UNNEEDED, same version is already published

Summary

Package: AffyRNADegradation
Version: 1.39.0
Command: /home/biocbuild/bbs-3.14-bioc/R/bin/R CMD check --install=check:AffyRNADegradation.install-out.txt --library=/home/biocbuild/bbs-3.14-bioc/R/library --no-vignettes --timings AffyRNADegradation_1.39.0.tar.gz
StartedAt: 2021-10-17 19:01:41 -0400 (Sun, 17 Oct 2021)
EndedAt: 2021-10-17 19:03:03 -0400 (Sun, 17 Oct 2021)
EllapsedTime: 81.3 seconds
RetCode: 0
Status:   OK  
CheckDir: AffyRNADegradation.Rcheck
Warnings: 0

Command output

##############################################################################
##############################################################################
###
### Running command:
###
###   /home/biocbuild/bbs-3.14-bioc/R/bin/R CMD check --install=check:AffyRNADegradation.install-out.txt --library=/home/biocbuild/bbs-3.14-bioc/R/library --no-vignettes --timings AffyRNADegradation_1.39.0.tar.gz
###
##############################################################################
##############################################################################


* using log directory ‘/home/biocbuild/bbs-3.14-bioc/meat/AffyRNADegradation.Rcheck’
* using R version 4.1.1 (2021-08-10)
* using platform: x86_64-pc-linux-gnu (64-bit)
* using session charset: UTF-8
* using option ‘--no-vignettes’
* checking for file ‘AffyRNADegradation/DESCRIPTION’ ... OK
* checking extension type ... Package
* this is package ‘AffyRNADegradation’ version ‘1.39.0’
* checking package namespace information ... OK
* checking package dependencies ... OK
* checking if this is a source package ... OK
* checking if there is a namespace ... OK
* checking for hidden files and directories ... OK
* checking for portable file names ... OK
* checking for sufficient/correct file permissions ... OK
* checking whether package ‘AffyRNADegradation’ can be installed ... OK
* checking installed package size ... OK
* checking package directory ... OK
* checking ‘build’ directory ... OK
* checking DESCRIPTION meta-information ... OK
* checking top-level files ... OK
* checking for left-over files ... OK
* checking index information ... OK
* checking package subdirectories ... OK
* checking R files for non-ASCII characters ... OK
* checking R files for syntax errors ... OK
* checking whether the package can be loaded ... OK
* checking whether the package can be loaded with stated dependencies ... OK
* checking whether the package can be unloaded cleanly ... OK
* checking whether the namespace can be loaded with stated dependencies ... OK
* checking whether the namespace can be unloaded cleanly ... OK
* checking dependencies in R code ... NOTE
Package in Depends field not imported from: ‘methods’
  These packages need to be imported from (in the NAMESPACE file)
  for when this namespace is loaded but not attached.
* checking S3 generic/method consistency ... OK
* checking replacement functions ... OK
* checking foreign function calls ... OK
* checking R code for possible problems ... NOTE
ComputeTongs: no visible global function definition for ‘filter’
ComputeTongs: no visible global function definition for ‘na.omit’
EstimateHookParams: no visible global function definition for ‘loess’
EstimateHookParams: no visible global function definition for
  ‘quantile’
GetTongs: no visible global function definition for ‘ave’
PlotDegradationHooks: no visible global function definition for
  ‘rainbow’
PlotDegradationHooks: no visible global function definition for ‘lines’
PlotDegradationHooks: no visible global function definition for
  ‘legend’
PlotDx: no visible global function definition for ‘grid’
PlotDx: no visible global function definition for ‘points’
PlotDx: no visible global function definition for ‘lines’
PlotTongs: no visible global function definition for ‘grid’
PlotTongs: no visible global function definition for ‘lines’
PlotTongs: no visible global function definition for ‘legend’
RNADegradation: no visible global function definition for ‘ave’
RNADegradation: no visible global function definition for ‘loess’
RNADegradation: no visible global function definition for ‘approx’
RNADegradation: no visible global function definition for ‘new’
TryToFitDecayFunction: no visible global function definition for ‘nls’
TryToFitDecayFunction: no visible global function definition for ‘coef’
getProbeInfo.index: no visible global function definition for ‘ave’
Undefined global functions or variables:
  approx ave coef filter grid legend lines loess na.omit new nls points
  quantile rainbow
Consider adding
  importFrom("grDevices", "rainbow")
  importFrom("graphics", "grid", "legend", "lines", "points")
  importFrom("methods", "new")
  importFrom("stats", "approx", "ave", "coef", "filter", "loess",
             "na.omit", "nls", "quantile")
to your NAMESPACE file (and ensure that your DESCRIPTION Imports field
contains 'methods').
* checking Rd files ... OK
* checking Rd metadata ... OK
* checking Rd cross-references ... OK
* checking for missing documentation entries ... OK
* checking for code/documentation mismatches ... OK
* checking Rd \usage sections ... OK
* checking Rd contents ... OK
* checking for unstated dependencies in examples ... OK
* checking files in ‘vignettes’ ... OK
* checking examples ... OK
Examples with CPU (user + system) or elapsed time > 5s
                             user system elapsed
AffyDegradationBatch-class 18.921  0.649  19.571
AffyRNADegradation-package 14.343  0.368  14.710
AffyRNADegradation         13.841  0.052  13.893
GetTongs                    6.467  0.016   6.483
* checking for unstated dependencies in vignettes ... OK
* checking package vignettes in ‘inst/doc’ ... OK
* checking running R code from vignettes ... SKIPPED
* checking re-building of vignette outputs ... SKIPPED
* checking PDF version of manual ... OK
* DONE

Status: 2 NOTEs
See
  ‘/home/biocbuild/bbs-3.14-bioc/meat/AffyRNADegradation.Rcheck/00check.log’
for details.



Installation output

AffyRNADegradation.Rcheck/00install.out

##############################################################################
##############################################################################
###
### Running command:
###
###   /home/biocbuild/bbs-3.14-bioc/R/bin/R CMD INSTALL AffyRNADegradation
###
##############################################################################
##############################################################################


* installing to library ‘/home/biocbuild/bbs-3.14-bioc/R/library’
* installing *source* package ‘AffyRNADegradation’ ...
** using staged installation
** R
** inst
** byte-compile and prepare package for lazy loading
** help
*** installing help indices
** building package indices
** installing vignettes
** testing if installed package can be loaded from temporary location
** testing if installed package can be loaded from final location
** testing if installed package keeps a record of temporary installation path
* DONE (AffyRNADegradation)

Tests output


Example timings

AffyRNADegradation.Rcheck/AffyRNADegradation-Ex.timings

nameusersystemelapsed
AffyDegradationBatch-class18.921 0.64919.571
AffyRNADegradation-package14.343 0.36814.710
AffyRNADegradation13.841 0.05213.893
GetTongs6.4670.0166.483