Back to Multiple platform build/check report for BioC 3.14
[A]BCDEFGHIJKLMNOPQRSTUVWXYZ

This page was generated on 2022-01-24 13:05:51 -0500 (Mon, 24 Jan 2022).

HostnameOSArch (*)R versionInstalled pkgs
nebbiolo2Linux (Ubuntu 20.04.4 LTS)x86_644.1.2 (2021-11-01) -- "Bird Hippie" 4329
tokay2Windows Server 2012 R2 Standardx644.1.2 (2021-11-01) -- "Bird Hippie" 4080
machv2macOS 10.14.6 Mojavex86_644.1.2 (2021-11-01) -- "Bird Hippie" 4141
Click on any hostname to see more info about the system (e.g. compilers)      (*) as reported by 'uname -p', except on Windows and Mac OS X

INSTALL results for AffyCompatible on tokay2


To the developers/maintainers of the AffyCompatible package:
- Please allow up to 24 hours (and sometimes 48 hours) for your latest push to git@git.bioconductor.org:packages/AffyCompatible.git to
reflect on this report. See How and When does the builder pull? When will my changes propagate? here for more information.
- Make sure to use the following settings in order to reproduce any error or warning you see on this page.

raw results

Package 25/2083HostnameOS / ArchINSTALLBUILDCHECKBUILD BIN
AffyCompatible 1.54.0  (landing page)
Martin Morgan
Snapshot Date: 2022-01-23 01:55:04 -0500 (Sun, 23 Jan 2022)
git_url: https://git.bioconductor.org/packages/AffyCompatible
git_branch: RELEASE_3_14
git_last_commit: fde7d86
git_last_commit_date: 2021-10-26 11:52:16 -0500 (Tue, 26 Oct 2021)
nebbiolo2Linux (Ubuntu 20.04.4 LTS) / x86_64  OK    OK    OK  UNNEEDED, same version is already published
tokay2Windows Server 2012 R2 Standard / x64  OK    OK    OK    OK  UNNEEDED, same version is already published
machv2macOS 10.14.6 Mojave / x86_64  OK    OK    OK    OK  UNNEEDED, same version is already published

Summary

Package: AffyCompatible
Version: 1.54.0
Command: C:\cygwin\bin\curl.exe -O http://155.52.207.166/BBS/3.14/bioc/src/contrib/AffyCompatible_1.54.0.tar.gz && rm -rf AffyCompatible.buildbin-libdir && mkdir AffyCompatible.buildbin-libdir && C:\Users\biocbuild\bbs-3.14-bioc\R\bin\R.exe CMD INSTALL --merge-multiarch --build --library=AffyCompatible.buildbin-libdir AffyCompatible_1.54.0.tar.gz && C:\Users\biocbuild\bbs-3.14-bioc\R\bin\R.exe CMD INSTALL AffyCompatible_1.54.0.zip && rm AffyCompatible_1.54.0.tar.gz AffyCompatible_1.54.0.zip
StartedAt: 2022-01-23 04:34:57 -0500 (Sun, 23 Jan 2022)
EndedAt: 2022-01-23 04:41:50 -0500 (Sun, 23 Jan 2022)
EllapsedTime: 412.2 seconds
RetCode: 0
Status:   OK  

Command output

##############################################################################
##############################################################################
###
### Running command:
###
###   C:\cygwin\bin\curl.exe -O http://155.52.207.166/BBS/3.14/bioc/src/contrib/AffyCompatible_1.54.0.tar.gz && rm -rf AffyCompatible.buildbin-libdir && mkdir AffyCompatible.buildbin-libdir && C:\Users\biocbuild\bbs-3.14-bioc\R\bin\R.exe CMD INSTALL --merge-multiarch --build --library=AffyCompatible.buildbin-libdir AffyCompatible_1.54.0.tar.gz && C:\Users\biocbuild\bbs-3.14-bioc\R\bin\R.exe CMD INSTALL AffyCompatible_1.54.0.zip && rm AffyCompatible_1.54.0.tar.gz AffyCompatible_1.54.0.zip
###
##############################################################################
##############################################################################


  % Total    % Received % Xferd  Average Speed   Time    Time     Time  Current
                                 Dload  Upload   Total   Spent    Left  Speed

  0     0    0     0    0     0      0      0 --:--:-- --:--:-- --:--:--     0
100 73920  100 73920    0     0   475k      0 --:--:-- --:--:-- --:--:--  478k

install for i386

* installing *source* package 'AffyCompatible' ...
** using staged installation
** R
** inst
** byte-compile and prepare package for lazy loading
** help
*** installing help indices
  converting help for package 'AffyCompatible'
    finding HTML links ... done
    AffyCompatible-class                    html  
    AffyCompatible-package                  html  
    NetAffxResource-class                   html  
    NetAffxResource                         html  
    accessors-NetAffxResource               html  
    readArr                                 html  
    readMage                                html  
    readNetAffx                             html  
    readXml                                 html  
    xclass                                  html  
    zzz-.TypedAssociation-class             html  
    zzz-ARRCompatibility-class              html  
    zzz-DTTCompatibility-class              html  
    zzz-NetAffxCompatibility-class          html  
    zzz                                     html  
** building package indices
** installing vignettes
** testing if installed package can be loaded from temporary location
** testing if installed package can be loaded from final location
** testing if installed package keeps a record of temporary installation path

install for x64

* installing *source* package 'AffyCompatible' ...
** testing if installed package can be loaded
* MD5 sums
packaged installation of 'AffyCompatible' as AffyCompatible_1.54.0.zip
* DONE (AffyCompatible)
* installing to library 'C:/Users/biocbuild/bbs-3.14-bioc/R/library'
package 'AffyCompatible' successfully unpacked and MD5 sums checked