Back to Multiple platform build/check report for BioC 3.14
[A]BCDEFGHIJKLMNOPQRSTUVWXYZ

This page was generated on 2021-10-25 14:06:04 -0400 (Mon, 25 Oct 2021).

INSTALL results for AffyCompatible on riesling1

To the developers/maintainers of the AffyCompatible package:
- Please allow up to 24 hours (and sometimes 48 hours) for your latest push to git@git.bioconductor.org:packages/AffyCompatible.git to
reflect on this report. See How and When does the builder pull? When will my changes propagate? here for more information.
- Make sure to use the following settings in order to reproduce any error or warning you see on this page.

raw results

Package 25/2083HostnameOS / ArchINSTALLBUILDCHECKBUILD BIN
AffyCompatible 1.53.0  (landing page)
Martin Morgan
Snapshot Date: 2021-10-24 14:50:04 -0400 (Sun, 24 Oct 2021)
git_url: https://git.bioconductor.org/packages/AffyCompatible
git_branch: master
git_last_commit: b169be1
git_last_commit_date: 2021-05-19 11:40:46 -0400 (Wed, 19 May 2021)
nebbiolo2Linux (Ubuntu 20.04.2 LTS) / x86_64  OK    OK    OK  UNNEEDED, same version is already published
riesling1Windows Server 2019 Standard / x64  OK    OK    OK    OK  UNNEEDED, same version is already published
merida1macOS 10.14.6 Mojave / x86_64  OK    OK    OK    OK  UNNEEDED, same version is already published
machv2macOS 10.14.6 Mojave / x86_64  OK    OK    OK    OK  

Summary

Package: AffyCompatible
Version: 1.53.0
Command: C:\cygwin\bin\curl.exe -O http://155.52.207.166/BBS/3.14/bioc/src/contrib/AffyCompatible_1.53.0.tar.gz && rm -rf AffyCompatible.buildbin-libdir && mkdir AffyCompatible.buildbin-libdir && D:\biocbuild\bbs-3.14-bioc\R\bin\R.exe CMD INSTALL --merge-multiarch --build --library=AffyCompatible.buildbin-libdir AffyCompatible_1.53.0.tar.gz && D:\biocbuild\bbs-3.14-bioc\R\bin\R.exe CMD INSTALL AffyCompatible_1.53.0.zip && rm AffyCompatible_1.53.0.tar.gz AffyCompatible_1.53.0.zip
StartedAt: 2021-10-24 17:17:11 -0400 (Sun, 24 Oct 2021)
EndedAt: 2021-10-24 17:20:22 -0400 (Sun, 24 Oct 2021)
EllapsedTime: 190.9 seconds
RetCode: 0
Status:   OK  

Command output

##############################################################################
##############################################################################
###
### Running command:
###
###   C:\cygwin\bin\curl.exe -O http://155.52.207.166/BBS/3.14/bioc/src/contrib/AffyCompatible_1.53.0.tar.gz && rm -rf AffyCompatible.buildbin-libdir && mkdir AffyCompatible.buildbin-libdir && D:\biocbuild\bbs-3.14-bioc\R\bin\R.exe CMD INSTALL --merge-multiarch --build --library=AffyCompatible.buildbin-libdir AffyCompatible_1.53.0.tar.gz && D:\biocbuild\bbs-3.14-bioc\R\bin\R.exe CMD INSTALL AffyCompatible_1.53.0.zip && rm AffyCompatible_1.53.0.tar.gz AffyCompatible_1.53.0.zip
###
##############################################################################
##############################################################################


  % Total    % Received % Xferd  Average Speed   Time    Time     Time  Current
                                 Dload  Upload   Total   Spent    Left  Speed

  0     0    0     0    0     0      0      0 --:--:-- --:--:-- --:--:--     0
100 73926  100 73926    0     0   471k      0 --:--:-- --:--:-- --:--:--  471k

install for i386

* installing *source* package 'AffyCompatible' ...
** using staged installation
** R
** inst
** byte-compile and prepare package for lazy loading
** help
*** installing help indices
  converting help for package 'AffyCompatible'
    finding HTML links ... done
    AffyCompatible-class                    html  
    AffyCompatible-package                  html  
    NetAffxResource-class                   html  
    NetAffxResource                         html  
    accessors-NetAffxResource               html  
    readArr                                 html  
    readMage                                html  
    readNetAffx                             html  
    readXml                                 html  
    xclass                                  html  
    zzz-.TypedAssociation-class             html  
    zzz-ARRCompatibility-class              html  
    zzz-DTTCompatibility-class              html  
    zzz-NetAffxCompatibility-class          html  
    zzz                                     html  
** building package indices
** installing vignettes
** testing if installed package can be loaded from temporary location
** testing if installed package can be loaded from final location
** testing if installed package keeps a record of temporary installation path

install for x64

* installing *source* package 'AffyCompatible' ...
** testing if installed package can be loaded
* MD5 sums
packaged installation of 'AffyCompatible' as AffyCompatible_1.53.0.zip
* DONE (AffyCompatible)
* installing to library 'D:/biocbuild/bbs-3.14-bioc/R/library'
package 'AffyCompatible' successfully unpacked and MD5 sums checked