Back to Multiple platform build/check report for BioC 3.14
[A]BCDEFGHIJKLMNOPQRSTUVWXYZ

This page was generated on 2021-10-18 12:04:25 -0400 (Mon, 18 Oct 2021).

BUILD results for AffyCompatible on merida1

To the developers/maintainers of the AffyCompatible package:
- Please allow up to 24 hours (and sometimes 48 hours) for your latest push to git@git.bioconductor.org:packages/AffyCompatible.git to
reflect on this report. See How and When does the builder pull? When will my changes propagate? here for more information.
- Make sure to use the following settings in order to reproduce any error or warning you see on this page.

raw results

Package 25/2060HostnameOS / ArchINSTALLBUILDCHECKBUILD BIN
AffyCompatible 1.53.0  (landing page)
Martin Morgan
Snapshot Date: 2021-10-17 14:50:03 -0400 (Sun, 17 Oct 2021)
git_url: https://git.bioconductor.org/packages/AffyCompatible
git_branch: master
git_last_commit: b169be1
git_last_commit_date: 2021-05-19 11:40:46 -0400 (Wed, 19 May 2021)
nebbiolo2Linux (Ubuntu 20.04.2 LTS) / x86_64  OK    OK    OK  UNNEEDED, same version is already published
riesling1Windows Server 2019 Standard / x64  OK    OK    OK    OK  UNNEEDED, same version is already published
merida1macOS 10.14.6 Mojave / x86_64  OK    OK    OK    OK  UNNEEDED, same version is already published

Summary

Package: AffyCompatible
Version: 1.53.0
Command: /Library/Frameworks/R.framework/Resources/bin/R CMD build --keep-empty-dirs --no-resave-data AffyCompatible
StartedAt: 2021-10-17 18:20:42 -0400 (Sun, 17 Oct 2021)
EndedAt: 2021-10-17 18:22:16 -0400 (Sun, 17 Oct 2021)
EllapsedTime: 94.2 seconds
RetCode: 0
Status:   OK  
PackageFile: AffyCompatible_1.53.0.tar.gz
PackageFileSize: 321 KiB

Command output

##############################################################################
##############################################################################
###
### Running command:
###
###   /Library/Frameworks/R.framework/Resources/bin/R CMD build --keep-empty-dirs --no-resave-data AffyCompatible
###
##############################################################################
##############################################################################


* checking for file ‘AffyCompatible/DESCRIPTION’ ... OK
* preparing ‘AffyCompatible’:
* checking DESCRIPTION meta-information ... OK
* installing the package to build vignettes
* creating vignettes ... OK
* checking for LF line-endings in source and make files and shell scripts
* checking for empty or unneeded directories
* looking to see if a ‘data/datalist’ file should be added
* building ‘AffyCompatible_1.53.0.tar.gz’