Back to Multiple platform build/check report for BioC 3.14
[A]BCDEFGHIJKLMNOPQRSTUVWXYZ

This page was generated on 2021-10-26 14:06:50 -0400 (Tue, 26 Oct 2021).

INSTALL results for AffiXcan on riesling1

To the developers/maintainers of the AffiXcan package:
- Please allow up to 24 hours (and sometimes 48 hours) for your latest push to git@git.bioconductor.org:packages/AffiXcan.git to
reflect on this report. See How and When does the builder pull? When will my changes propagate? here for more information.
- Make sure to use the following settings in order to reproduce any error or warning you see on this page.

raw results

Package 21/2083HostnameOS / ArchINSTALLBUILDCHECKBUILD BIN
AffiXcan 1.11.0  (landing page)
Alessandro Lussana
Snapshot Date: 2021-10-25 14:50:11 -0400 (Mon, 25 Oct 2021)
git_url: https://git.bioconductor.org/packages/AffiXcan
git_branch: master
git_last_commit: 25911d1
git_last_commit_date: 2021-05-19 12:38:25 -0400 (Wed, 19 May 2021)
nebbiolo2Linux (Ubuntu 20.04.2 LTS) / x86_64  OK    OK    OK  UNNEEDED, same version is already published
riesling1Windows Server 2019 Standard / x64  OK    OK    OK    OK  UNNEEDED, same version is already published
merida1macOS 10.14.6 Mojave / x86_64  OK    OK    OK    OK  UNNEEDED, same version is already published
machv2macOS 10.14.6 Mojave / x86_64  OK    OK    OK    OK  

Summary

Package: AffiXcan
Version: 1.11.0
Command: C:\cygwin\bin\curl.exe -O http://155.52.207.166/BBS/3.14/bioc/src/contrib/AffiXcan_1.11.0.tar.gz && rm -rf AffiXcan.buildbin-libdir && mkdir AffiXcan.buildbin-libdir && D:\biocbuild\bbs-3.14-bioc\R\bin\R.exe CMD INSTALL --merge-multiarch --build --library=AffiXcan.buildbin-libdir AffiXcan_1.11.0.tar.gz && D:\biocbuild\bbs-3.14-bioc\R\bin\R.exe CMD INSTALL AffiXcan_1.11.0.zip && rm AffiXcan_1.11.0.tar.gz AffiXcan_1.11.0.zip
StartedAt: 2021-10-25 18:18:46 -0400 (Mon, 25 Oct 2021)
EndedAt: 2021-10-25 18:21:38 -0400 (Mon, 25 Oct 2021)
EllapsedTime: 172.4 seconds
RetCode: 0
Status:   OK  

Command output

##############################################################################
##############################################################################
###
### Running command:
###
###   C:\cygwin\bin\curl.exe -O http://155.52.207.166/BBS/3.14/bioc/src/contrib/AffiXcan_1.11.0.tar.gz && rm -rf AffiXcan.buildbin-libdir && mkdir AffiXcan.buildbin-libdir && D:\biocbuild\bbs-3.14-bioc\R\bin\R.exe CMD INSTALL --merge-multiarch --build --library=AffiXcan.buildbin-libdir AffiXcan_1.11.0.tar.gz && D:\biocbuild\bbs-3.14-bioc\R\bin\R.exe CMD INSTALL AffiXcan_1.11.0.zip && rm AffiXcan_1.11.0.tar.gz AffiXcan_1.11.0.zip
###
##############################################################################
##############################################################################


  % Total    % Received % Xferd  Average Speed   Time    Time     Time  Current
                                 Dload  Upload   Total   Spent    Left  Speed

  0     0    0     0    0     0      0      0 --:--:-- --:--:-- --:--:--     0
 49 1710k   49  847k    0     0  2523k      0 --:--:-- --:--:-- --:--:-- 2515k
100 1710k  100 1710k    0     0  3793k      0 --:--:-- --:--:-- --:--:-- 3784k

install for i386

* installing *source* package 'AffiXcan' ...
** using staged installation
** R
** data
** inst
** byte-compile and prepare package for lazy loading
** help
*** installing help indices
  converting help for package 'AffiXcan'
    finding HTML links ... done
    AffiXcan-package                        html  
    affiXcanBs                              html  
    affiXcanGReX                            html  
    affiXcanImpute                          html  
    affiXcanPca                             html  
    affiXcanPcs                             html  
    affiXcanTrain                           html  
    assoc2list                              html  
    computeBs                               html  
    computeCorrelation                      html  
    computeExpr                             html  
    computePca                              html  
    computePcs                              html  
    computeRSquared                         html  
    exprMatrix                              html  
    overlookRegions                         html  
    regionAssoc                             html  
    subsetKFold                             html  
    trainingCovariates                      html  
** building package indices
** installing vignettes
** testing if installed package can be loaded from temporary location
** testing if installed package can be loaded from final location
** testing if installed package keeps a record of temporary installation path

install for x64

* installing *source* package 'AffiXcan' ...
** testing if installed package can be loaded
* MD5 sums
packaged installation of 'AffiXcan' as AffiXcan_1.11.0.zip
* DONE (AffiXcan)
* installing to library 'D:/biocbuild/bbs-3.14-bioc/R/library'
package 'AffiXcan' successfully unpacked and MD5 sums checked