![]() | Name | Last modified | Size | Description |
---|---|---|---|---|
![]() | Parent Directory | - | ||
![]() | buildbin-out.txt | 14-Apr-2022 01:06 | 2.3K | |
![]() | buildbin-summary.dcf | 14-Apr-2022 01:06 | 545 | |
![]() | buildsrc-out.txt | 14-Apr-2022 01:06 | 910 | |
![]() | buildsrc-summary.dcf | 14-Apr-2022 01:06 | 463 | |
![]() | checksrc-out.txt | 14-Apr-2022 01:06 | 4.1K | |
![]() | checksrc-summary.dcf | 14-Apr-2022 01:06 | 466 | |
![]() | install-out.txt | 14-Apr-2022 01:06 | 3.0K | |
![]() | install-summary.dcf | 14-Apr-2022 01:06 | 649 | |