Index of /checkResults/3.14/bioc-LATEST/AffiXcan/raw-results/nebbiolo2

[ICO]NameLast modifiedSizeDescription

[DIR]Parent Directory  -  
[TXT]buildsrc-out.txt15-Jan-2022 03:04 873  
[   ]buildsrc-summary.dcf15-Jan-2022 03:04 420  
[TXT]checksrc-out.txt15-Jan-2022 03:04 3.5K 
[   ]checksrc-summary.dcf15-Jan-2022 03:04 428  
[TXT]install-out.txt15-Jan-2022 03:04 958  
[   ]install-summary.dcf15-Jan-2022 03:04 261