Index of /checkResults/3.14/bioc-LATEST/AffiXcan/raw-results/machv2

[ICO]NameLast modifiedSizeDescription

[DIR]Parent Directory  -  
[TXT]buildbin-out.txt27-Jan-2022 03:07 1.2K 
[   ]buildbin-summary.dcf27-Jan-2022 03:07 536  
[TXT]buildsrc-out.txt27-Jan-2022 03:07 883  
[   ]buildsrc-summary.dcf27-Jan-2022 03:07 430  
[TXT]checksrc-out.txt27-Jan-2022 03:07 3.5K 
[   ]checksrc-summary.dcf27-Jan-2022 03:07 448  
[TXT]install-out.txt27-Jan-2022 03:07 1.0K 
[   ]install-summary.dcf27-Jan-2022 03:07 271