Back to Multiple platform build/check report for BioC 3.14
[A]BCDEFGHIJKLMNOPQRSTUVWXYZ

This page was generated on 2021-10-22 12:04:18 -0400 (Fri, 22 Oct 2021).

BUILD results for AWFisher on riesling1

To the developers/maintainers of the AWFisher package:
- Please allow up to 24 hours (and sometimes 48 hours) for your latest push to git@git.bioconductor.org:packages/AWFisher.git to
reflect on this report. See How and When does the builder pull? When will my changes propagate? here for more information.
- Make sure to use the following settings in order to reproduce any error or warning you see on this page.

raw results

Package 101/2075HostnameOS / ArchINSTALLBUILDCHECKBUILD BIN
AWFisher 1.7.0  (landing page)
Zhiguang Huo
Snapshot Date: 2021-10-21 14:50:08 -0400 (Thu, 21 Oct 2021)
git_url: https://git.bioconductor.org/packages/AWFisher
git_branch: master
git_last_commit: 676f740
git_last_commit_date: 2021-05-19 12:44:47 -0400 (Wed, 19 May 2021)
nebbiolo2Linux (Ubuntu 20.04.2 LTS) / x86_64  OK    OK    OK  UNNEEDED, same version is already published
riesling1Windows Server 2019 Standard / x64  OK    OK    OK    OK  UNNEEDED, same version is already published
merida1macOS 10.14.6 Mojave / x86_64  OK    OK    OK    OK  UNNEEDED, same version is already published

Summary

Package: AWFisher
Version: 1.7.0
Command: chmod a+r AWFisher -R && D:\biocbuild\bbs-3.14-bioc\R\bin\R.exe CMD build --keep-empty-dirs --no-resave-data AWFisher
StartedAt: 2021-10-21 19:38:35 -0400 (Thu, 21 Oct 2021)
EndedAt: 2021-10-21 19:43:16 -0400 (Thu, 21 Oct 2021)
EllapsedTime: 281.0 seconds
RetCode: 0
Status:   OK  
PackageFile: AWFisher_1.7.0.tar.gz
PackageFileSize: 1.344 MiB

Command output

##############################################################################
##############################################################################
###
### Running command:
###
###   chmod a+r AWFisher -R && D:\biocbuild\bbs-3.14-bioc\R\bin\R.exe CMD build --keep-empty-dirs --no-resave-data AWFisher
###
##############################################################################
##############################################################################


* checking for file 'AWFisher/DESCRIPTION' ... OK
* preparing 'AWFisher':
* checking DESCRIPTION meta-information ... OK
* cleaning src
* installing the package to build vignettes
* creating vignettes ... OK
* cleaning src
* checking for LF line-endings in source and make files and shell scripts
* checking for empty or unneeded directories
* looking to see if a 'data/datalist' file should be added
* building 'AWFisher_1.7.0.tar.gz'