Back to Multiple platform build/check report for BioC 3.14
[A]BCDEFGHIJKLMNOPQRSTUVWXYZ

This page was generated on 2021-10-20 12:05:33 -0400 (Wed, 20 Oct 2021).

BUILD results for AWFisher on merida1

To the developers/maintainers of the AWFisher package:
- Please allow up to 24 hours (and sometimes 48 hours) for your latest push to git@git.bioconductor.org:packages/AWFisher.git to
reflect on this report. See How and When does the builder pull? When will my changes propagate? here for more information.
- Make sure to use the following settings in order to reproduce any error or warning you see on this page.

raw results

Package 101/2072HostnameOS / ArchINSTALLBUILDCHECKBUILD BIN
AWFisher 1.7.0  (landing page)
Zhiguang Huo
Snapshot Date: 2021-10-19 14:50:04 -0400 (Tue, 19 Oct 2021)
git_url: https://git.bioconductor.org/packages/AWFisher
git_branch: master
git_last_commit: 676f740
git_last_commit_date: 2021-05-19 12:44:47 -0400 (Wed, 19 May 2021)
nebbiolo2Linux (Ubuntu 20.04.2 LTS) / x86_64  OK    OK    OK  UNNEEDED, same version is already published
riesling1Windows Server 2019 Standard / x64  OK    OK    OK    OK  UNNEEDED, same version is already published
merida1macOS 10.14.6 Mojave / x86_64  OK    OK    OK    OK  UNNEEDED, same version is already published

Summary

Package: AWFisher
Version: 1.7.0
Command: /Library/Frameworks/R.framework/Resources/bin/R CMD build --keep-empty-dirs --no-resave-data AWFisher
StartedAt: 2021-10-19 18:33:13 -0400 (Tue, 19 Oct 2021)
EndedAt: 2021-10-19 18:33:59 -0400 (Tue, 19 Oct 2021)
EllapsedTime: 45.1 seconds
RetCode: 0
Status:   OK  
PackageFile: AWFisher_1.7.0.tar.gz
PackageFileSize: 1.374 MiB

Command output

##############################################################################
##############################################################################
###
### Running command:
###
###   /Library/Frameworks/R.framework/Resources/bin/R CMD build --keep-empty-dirs --no-resave-data AWFisher
###
##############################################################################
##############################################################################


* checking for file ‘AWFisher/DESCRIPTION’ ... OK
* preparing ‘AWFisher’:
* checking DESCRIPTION meta-information ... OK
* cleaning src
* installing the package to build vignettes
* creating vignettes ... OK
* cleaning src
* checking for LF line-endings in source and make files and shell scripts
* checking for empty or unneeded directories
* looking to see if a ‘data/datalist’ file should be added
* building ‘AWFisher_1.7.0.tar.gz’